BEGIN:VCALENDAR
PRODID:NingEventWidget-v1
VERSION:2.0
METHOD:PUBLISH
BEGIN:VEVENT
UID:4320450:Event:155332
DTSTAMP:20260425T125005Z
SUMMARY:Kevin Snipes: Is / Is Not
DESCRIPTION:“Is / Is Not ” is a new exhibition on display at The C
 lay Studio featurings works by Kevin Snipes, current Resident Artist a
 nd Windgate Fellow at The Clay Studio. Kevin Snipes tells stories thro
 ugh his ceramic work, stories that explore differences, otherness, and
  the underlying issues that lead to discrimination. The new body of wo
 rk in this solo exhibition focuses on plate forms based on the human f
 ace. This exhibition will be on display at The Clay Studio’s Gallery
  from March 5 to March 28, 2021.\n\nVirtual tours available by appoint
 ment. Email Jennifer Zwilling at jzwilling@theclaystudio.org\n\nFor mo
 re information visit http://phillytodo.com/events/kevin-snipes-is-is-n
 ot
DTSTART:20210305T160000Z
DTEND:20210328T220000Z
CATEGORIES:art, gallery, exhibition
LOCATION:The Clay Studio
WEBSITE:https://www.theclaystudio.org/exhibitions/kevin-snipes-new-wor
URL:https://www.theclaystudio.org/exhibitions/kevin-snipes-new-wor
CONTACT:(215) 925-3453 x 23
ORGANIZER:Jennifer Zwilling
ATTACH;FMTTYPE="image/jpeg":https://storage.ning.com/topology/rest/1.0
 /file/get/8547237478?profile=original
ATTENDEE;ROLE=REQ-PARTICIPANT;PARTSTAT=ACCEPTED;RSVP=TRUE;CN="Bryan Ch
 an":http://phillytodo.com/profile/BryanChan
END:VEVENT
END:VCALENDAR
