BEGIN:VCALENDAR
PRODID:NingEventWidget-v1
VERSION:2.0
METHOD:PUBLISH
BEGIN:VEVENT
UID:4320450:Event:42307
DTSTAMP:20260425T162635Z
SUMMARY:Kenny Rogers at Valley Forge Music Fair
DESCRIPTION:GRAMMY award-winner Kenny Rogers brings his Once Again Itâ
 €™s Christmas Tour, featuring Linda Davis, to Valley Forge Casino Reso
 rt (1160 First Avenue) on Saturday, December 18, 2015. Nineteen years 
 after performing the farewell concert for the original Valley Forge Mu
 sic Fair, Rogers returns for the Fairâ€™s grand revival. Rogers will p
 erform holiday favorites, plus many of the 24 number one singles the c
 ountry-pop singer has recorded throughout his 50-plus-year career. Doo
 rs will open at 7:00pm, with the show starting at 8:00pm. Tickets are 
 on sale now at Ticketmaster for $59.00 to $99.00 each.\n\nFor more inf
 ormation visit http://phillytodo.com/events/kenny-rogers-at-valley-for
 ge-music-fair
DTSTART:20151219T010000Z
DTEND:20151219T040000Z
CATEGORIES:music, concert, valley, forge, casino, resort, fair, kenny,
  rogers, king, of, prussia, nightlife, christmas, hits, revival, new, 
 album
LOCATION:Valley Forge Casino Resort
WEBSITE:https://vfcasino.com/events/kenny-rogers/
URL:https://vfcasino.com/events/kenny-rogers/
CONTACT:
ORGANIZER;CN="Aversa PR & Events":http://phillytodo.com/profile/KoryAv
 ersa277
ATTACH;FMTTYPE="image/jpeg":http://storage.ning.com/topology/rest/1.0/
 file/get/3054990301?profile=original
ATTENDEE;ROLE=REQ-PARTICIPANT;PARTSTAT=ACCEPTED;RSVP=TRUE;CN="Aversa P
 R & Events":http://phillytodo.com/profile/KoryAversa277
END:VEVENT
END:VCALENDAR
