BEGIN:VCALENDAR
PRODID:NingEventWidget-v1
VERSION:2.0
METHOD:PUBLISH
BEGIN:VEVENT
UID:4320450:Event:41229
DTSTAMP:20260425T125032Z
SUMMARY:Kefir and Kvass Fermentation with Phickle
DESCRIPTION:See more info and register here: http://www.greensgrow.org
 /event/fermentation-with-phickle/\n\nFor more information visit http:/
 /phillytodo.com/events/kefir-and-kvass-fermentation-with-phickle
DTSTART:20151017T160000Z
DTEND:20151017T180000Z
CATEGORIES:workshop
LOCATION:Greensgrow Community Kitchen at St. Michael's Lutheran Church
WEBSITE:http://www.greensgrow.org/
URL:http://www.greensgrow.org/
CONTACT:267.283.6787
ORGANIZER;CN="Greensgrow Farms":http://phillytodo.com/profile/Greensgr
 owFarms
ATTACH;FMTTYPE="image/jpeg":
ATTENDEE;ROLE=REQ-PARTICIPANT;PARTSTAT=ACCEPTED;RSVP=TRUE;CN="Greensgr
 ow Farms":http://phillytodo.com/profile/GreensgrowFarms
END:VEVENT
END:VCALENDAR
