BEGIN:VCALENDAR
PRODID:NingEventWidget-v1
VERSION:2.0
METHOD:PUBLISH
BEGIN:VEVENT
UID:4320450:Event:34833
DTSTAMP:20260425T124842Z
SUMMARY:Juvenile In Justice
DESCRIPTION:InLiquid, a nonprofit organization committed to creating o
 pportunities and exposure for visual artists in the Philadelphia area,
  has partnered with the Juvenile Law Center to present Juvenile In Jus
 tice, an exhibition of works by artists Richard Ross, Roberto Lugo, an
 d Mat Tomezsko aimed at inspiring reform of the juvenile justice syste
 m and encouraging the implementation of art education programs nationw
 ide. The Juvenile In Justice exhibition is inspired by Richard Ross’
  award-winning book Juvenile-In-Justice, in which Ross travels to 30 s
 tates, including Pennsylvania, and photographs over 250 youth faciliti
 es. Ross’ works creates a framework for the discussion of issues sur
 rounding juvenile incarceration, to which Philadelphia artists Roberto
  Lugo and Mat Tomezsko respond with examples of the positive influence
  that arts programming can provide, and how engaging youth in these pr
 ograms is critical to change.\n\nFor more information visit http://phi
 llytodo.com/events/juvenile-in-justice
DTSTART:20131108T170000Z
DTEND:20131212T230000Z
CATEGORIES:exhibition
LOCATION:The Ice Box Crane Arts Building
WEBSITE:http://inliquid.org/happenings/inliquid-projects/partner-proje
 cts/juvenile-in-justice-crane-arts/
URL:http://inliquid.org/happenings/inliquid-projects/partner-projects/
 juvenile-in-justice-crane-arts/
CONTACT:215.625.7988
ORGANIZER;CN="Skai Blue Media":http://phillytodo.com/profile/SkaiBlueM
 edia
ATTACH;FMTTYPE="image/jpeg":
ATTENDEE;ROLE=REQ-PARTICIPANT;PARTSTAT=ACCEPTED;RSVP=TRUE;CN="Skai Blu
 e Media":http://phillytodo.com/profile/SkaiBlueMedia
END:VEVENT
END:VCALENDAR
