BEGIN:VCALENDAR
PRODID:NingEventWidget-v1
VERSION:2.0
METHOD:PUBLISH
BEGIN:VEVENT
UID:4320450:Event:26202
DTSTAMP:20260425T144242Z
SUMMARY:JUSTIN HINES – PRESENTED BY INGLIS
DESCRIPTION:Celebrating 135 years of serving people with disabilities,
  Inglis proudly presents internationally known singer/songwriter, Just
 in Hines in his Philadelphia debut - April 19th at 8pm at World Cafe L
 ive.\n \nInspired by classic singer/storytellers like Jim Croce, Jame
 s Taylor and Joni Mitchell – Justin Hines, a life-long wheelchair us
 er, mixes many styles yet embodies a musical space all his own.\n \nT
 he 30-year-old Canadian’s work has been called “a potent combinati
 on of emotionally eloquent lyrics and strong, accessible melodies” b
 y Canda’s The Globe & Mail, and his uplifting story is much more tha
 n merely a great musician finally breaking into the American market.\n
  \nPlease join us for this wonderful evening and share this young man
 's powerful music and inspirational story. Justin truly embodies the I
 nglis mission of empowering people with disabilities - and those who c
 are for them - to achieve their goals and live life to the fullest!\n
 \nTickets as low as $25.00.  Tickets may be purchased on our website
  at www.inglis.org.  Look for the photograph of Justin in the upper r
 ight corner and click to get to the concert page.  Or you may call di
 rectly to the World Cafe Live ticketing services - 215-222-1400.\n\nFo
 r more information visit http://phillytodo.com/events/justin-hines-pre
 sented-by-inglis
DTSTART:20120420T000000Z
DTEND:20120420T030000Z
CATEGORIES:concert
LOCATION:World Cafe Live
WEBSITE:http://www.inglis.org
URL:http://www.inglis.org
CONTACT:267-298-1585
ORGANIZER;CN="Gary Bramnick":http://phillytodo.com/profile/GaryBramnic
 k
ATTACH;FMTTYPE="image/jpeg":http://storage.ning.com/topology/rest/1.0/
 file/get/3054958260?profile=original
ATTENDEE;ROLE=REQ-PARTICIPANT;PARTSTAT=ACCEPTED;RSVP=TRUE;CN="Gary Bra
 mnick":http://phillytodo.com/profile/GaryBramnick
END:VEVENT
END:VCALENDAR
