BEGIN:VCALENDAR
PRODID:NingEventWidget-v1
VERSION:2.0
METHOD:PUBLISH
BEGIN:VEVENT
UID:4320450:Event:3868
DTSTAMP:20260425T144257Z
SUMMARY:Just You, Only Better Workshop
DESCRIPTION:With thousands of women going to extremes to look their be
 st, Just You, Only Better is determined to change this trend.   For ab
 out the price of a designer pair of jeans, the Just You, Only Better W
 orkshop teaches you ways to improve your health, enhance your true inn
 er beauty and update your outer image through subtle changes.  As you
  become empowered, not only will you become a more balanced, happier p
 erson, you will become a better partner, mother, friend and businesswo
 man…Just You, Only Better!\n\nFor more information visit http://phil
 lytodo.com/events/just-you-only-better-workshop
DTSTART:20110204T123000Z
DTEND:20110204T220000Z
CATEGORIES:"women's", one, day, workshop
LOCATION:Pyramid Club
WEBSITE:http://www.justyouonlybetter.com/Workshops.asp
URL:http://www.justyouonlybetter.com/Workshops.asp
CONTACT:
ORGANIZER;CN=FashionWhipped:http://phillytodo.com/profile/BianaDeMarco
ATTACH;FMTTYPE="image/jpeg":http://storage.ning.com/topology/rest/1.0/
 file/get/3054953900?profile=original
ATTENDEE;ROLE=REQ-PARTICIPANT;PARTSTAT=ACCEPTED;RSVP=TRUE;CN=FashionWh
 ipped:http://phillytodo.com/profile/BianaDeMarco
END:VEVENT
END:VCALENDAR
