BEGIN:VCALENDAR
PRODID:NingEventWidget-v1
VERSION:2.0
METHOD:PUBLISH
BEGIN:VEVENT
UID:4320450:Event:1829
DTSTAMP:20260425T155040Z
SUMMARY:Judy Gold, Comedy Show
DESCRIPTION:Emmy Award winning comedian Judy Gold brings her hilarious
  stand-up comedy to the Kaiserman JCC in Wynnewood, PA. Don't miss thi
 s very funny lady!\n\nFor more information visit http://phillytodo.com
 /events/judy-gold-comedy-show
DTSTART:20100718T233000Z
DTEND:20100719T010000Z
CATEGORIES:comedy, show
LOCATION:Kaiserman JCC
WEBSITE:http://www.phillyjcc.com
URL:http://www.phillyjcc.com
CONTACT:
ORGANIZER;CN=Donna:http://phillytodo.com/profile/Donna
ATTACH;FMTTYPE="image/jpeg":http://storage.ning.com/topology/rest/1.0/
 file/get/3054949966?profile=original
ATTENDEE;ROLE=REQ-PARTICIPANT;PARTSTAT=ACCEPTED;RSVP=TRUE;CN=Donna:htt
 p://phillytodo.com/profile/Donna
END:VEVENT
END:VCALENDAR
