BEGIN:VCALENDAR
PRODID:NingEventWidget-v1
VERSION:2.0
METHOD:PUBLISH
BEGIN:VEVENT
UID:4320450:Event:1832
DTSTAMP:20260425T144331Z
SUMMARY:Judy Gold, Comedy Show
DESCRIPTION:Emmy Award winning comedian, Judy Gold brings her hilariou
 s stand-up comedy to the World Cafe Live stage. Don't miss this very f
 unny lady!\n\nFor more information visit http://phillytodo.com/events/
 judy-gold-comedy-show-1
DTSTART:20100720T000000Z
DTEND:20100720T020000Z
CATEGORIES:comedy, show
LOCATION:World Cafe Live
WEBSITE:http://www.worldcafelive.com
URL:http://www.worldcafelive.com
CONTACT:
ORGANIZER;CN=Donna:http://phillytodo.com/profile/Donna
ATTACH;FMTTYPE="image/jpeg":http://storage.ning.com/topology/rest/1.0/
 file/get/3054949966?profile=original
ATTENDEE;ROLE=REQ-PARTICIPANT;PARTSTAT=ACCEPTED;RSVP=TRUE;CN=Donna:htt
 p://phillytodo.com/profile/Donna
END:VEVENT
END:VCALENDAR
