BEGIN:VCALENDAR
PRODID:NingEventWidget-v1
VERSION:2.0
METHOD:PUBLISH
BEGIN:VEVENT
UID:4320450:Event:41455
DTSTAMP:20260425T144333Z
SUMMARY:Jubilee Grove Planting Workday
DESCRIPTION:Join us to plant Jubilee Grove, a special 50th anniversar
 y planting at the nexus of many of our trails.  Volunteers will gathe
 r to plant all the trees, shrubs, and wildflowers donated by Schuylkil
 l Center supporters and friends, establishing Jubilee Grove, a gift fo
 r future generations. In addition to planting donated plants for Jubil
 ee Grove, we’ll be installing native trees supported by a grant from
  Treevitalize.\nWear clothes you don’t mind getting dirty; layers, l
 ong pants, and boots are recommended.  Please remember to bring your 
 own water bottle.  Water refills and snacks are provided. \nWant to 
 make a donation to Jubilee Grove?  You make make a gift here.\nLet u
 s know if you plan to come help us plant Jubilee Grove.\n\nFor more i
 nformation visit http://phillytodo.com/events/jubilee-grove-planting-w
 orkday
DTSTART:20150912T140000Z
DTEND:20150912T160000Z
CATEGORIES:volunteering, environmental, nature, plants
LOCATION:Schuylkill Center for Environmental Education
WEBSITE:http://www.schuylkillcenter.org/
URL:http://www.schuylkillcenter.org/
CONTACT:215-482-7300, x110
ORGANIZER;CN="The Schuylkill Center":http://phillytodo.com/profile/Ann
 aLehrMueser
ATTACH;FMTTYPE="image/jpeg":http://storage.ning.com/topology/rest/1.0/
 file/get/3054989862?profile=original
ATTENDEE;ROLE=REQ-PARTICIPANT;PARTSTAT=ACCEPTED;RSVP=TRUE;CN="The Schu
 ylkill Center":http://phillytodo.com/profile/AnnaLehrMueser
END:VEVENT
END:VCALENDAR
