BEGIN:VCALENDAR
PRODID:NingEventWidget-v1
VERSION:2.0
METHOD:PUBLISH
BEGIN:VEVENT
UID:4320450:Event:41734
DTSTAMP:20260425T141126Z
SUMMARY:Journal Making & Leaf Imprinting
DESCRIPTION:Join us as we explore the changes from fall to winter and 
 collect the last remaining signs of nature before they become buried i
 n snow. You’ll leave with your very own booklet of your personal fou
 nd artifacts.\nNon-members $10 | Members $7\nRegister online here.\n\
 nFor more information visit http://phillytodo.com/events/journal-makin
 g-leaf-imprinting
DTSTART:20151114T170000Z
DTEND:20151114T193000Z
CATEGORIES:environmental
LOCATION:Schuylkill Center for Environmental Education
WEBSITE:http://www.schuylkillcenter.org/
URL:http://www.schuylkillcenter.org/
CONTACT:215-482-7300, x110
ORGANIZER;CN="The Schuylkill Center":http://phillytodo.com/profile/Ann
 aLehrMueser
ATTACH;FMTTYPE="image/jpeg":http://storage.ning.com/topology/rest/1.0/
 file/get/3054990988?profile=original
ATTENDEE;ROLE=REQ-PARTICIPANT;PARTSTAT=ACCEPTED;RSVP=TRUE;CN="The Schu
 ylkill Center":http://phillytodo.com/profile/AnnaLehrMueser
END:VEVENT
END:VCALENDAR
