BEGIN:VCALENDAR
PRODID:NingEventWidget-v1
VERSION:2.0
METHOD:PUBLISH
BEGIN:VEVENT
UID:4320450:Event:60420
DTSTAMP:20260425T114224Z
SUMMARY:Joshua Hebbert: Stargazing
DESCRIPTION:“The slip cast vessels in Stargazing are explorations of
  interior and exterior spaces. By casting the interiors of vessels, ne
 w forms are revealed, and these diminish as I recast their interior vo
 ids. I also expand the forms by adding layers to the prototypes and ma
 king new molds. The textural history of these vessels becomes hidden a
 s I create a family of objects that grow and shrink – gazing out, ga
 zing in.” – Joshua Hebbert\n\nFor more information visit http://ph
 illytodo.com/events/joshua-hebbert-stargazing
DTSTART:20200306T160000Z
DTEND:20200426T220000Z
CATEGORIES:art, exhibit
LOCATION:The Clay Studio
WEBSITE:https://www.theclaystudio.org/exhibitions/stargazing-joshua-he
 bbert
URL:https://www.theclaystudio.org/exhibitions/stargazing-joshua-hebber
 t
CONTACT:
ORGANIZER;CN="Bryan Chan":http://phillytodo.com/profile/BryanChan
ATTACH;FMTTYPE="image/jpeg":https://storage.ning.com/topology/rest/1.0
 /file/get/3873218789?profile=original
ATTENDEE;ROLE=REQ-PARTICIPANT;PARTSTAT=ACCEPTED;RSVP=TRUE;CN="Bryan Ch
 an":http://phillytodo.com/profile/BryanChan
END:VEVENT
END:VCALENDAR
