BEGIN:VCALENDAR
PRODID:NingEventWidget-v1
VERSION:2.0
METHOD:PUBLISH
BEGIN:VEVENT
UID:4320450:Event:56417
DTSTAMP:20260425T113220Z
SUMMARY:Jose Garces and The Friends of the Garces Foundation Fall Bene
 fit
DESCRIPTION:Jose Garces & the Friends of the Garces Foundation invite 
 you to join us for our inaugural Fall Benefit held at Concourse Dance 
 Bar on Wednesday, November 14 featuring DJ Kasey Berry, cocktails, del
 icious eats by El Mercury – a 2018 Best of Philly recipient— danci
 ng and the signature ball pit at Concourse. The open bar will feature 
 selections from Tito’s Handmade Vodka, Yards Brewing, Austin East Ci
 ders, Left Hand Brewing, and more! The proceeds from the event will be
 nefit Philadelphia’s underserved immigrant community through the sup
 port of the Foundation and their mission of ensuring access to healthc
 are and education services. VIP tickets will be sold for $125 and will
  include an exclusive one-hour preview reception from 7:00 to 8:00 pm,
  followed by the main event from 8:00- 11:00pm. General Admission tick
 ets are priced at $75 with admission from 8:00pm to 11:00pm. For more 
 information regarding the event or to purchase tickets, click here.\n\
 nFor more information visit http://phillytodo.com/events/jose-garces-a
 nd-the-friends-of-the-garces-foundation-fall-benefit
DTSTART:20181115T000000Z
DTEND:20181115T040000Z
CATEGORIES:fundraiser
LOCATION:Concourse Dance Bar
WEBSITE:https://garcesfoundation.org/fallbenefit
URL:https://garcesfoundation.org/fallbenefit
CONTACT:
ORGANIZER:Garces Foundation
ATTACH;FMTTYPE="image/jpeg":http://storage.ning.com/topology/rest/1.0/
 file/get/3055015939?profile=original
ATTENDEE;ROLE=REQ-PARTICIPANT;PARTSTAT=ACCEPTED;RSVP=TRUE;CN=CashmanAs
 soc:http://phillytodo.com/profile/CashmanAssoc
END:VEVENT
END:VCALENDAR
