BEGIN:VCALENDAR
PRODID:NingEventWidget-v1
VERSION:2.0
METHOD:PUBLISH
BEGIN:VEVENT
UID:4320450:Event:34197
DTSTAMP:20260425T130622Z
SUMMARY:Join Us - RSVP and Experience The Macallan Scotch
DESCRIPTION:RSVP/Full Details: http://www.upcomingevents.com/event/16
 222/ptodo\n \nRaise The Macallan® - Join the Next Generation of Tast
 e! You are invited to a private tasting event that promises to deepen 
 your appreciation of fine spirits and change what you know about Singl
 e Malt Scotch Whisky. Elevate your taste and Raise The Macallan.Come s
 avor the finest single malts in the world alongside friends, and learn
  firsthand what makes The Macallan a cut above the rest.RSVP for *Comp
 limentary Admission* Today by clicking the link above.\n \n \n\nFor 
 more information visit http://phillytodo.com/events/join-us-rsvp-and-e
 xperience-the-macallan-scotch
DTSTART:20130910T220000Z
DTEND:20130914T030000Z
CATEGORIES:tasting, scotch, educational, mixer, event
LOCATION:SkyBox
WEBSITE:http://www.upcomingevents.com/event/16222/ptodo
URL:http://www.upcomingevents.com/event/16222/ptodo
CONTACT:
ORGANIZER;CN="UpcomingEvents.com":http://phillytodo.com/profile/Upcomi
 ngEventscom
ATTACH;FMTTYPE="image/jpeg":http://storage.ning.com/topology/rest/1.0/
 file/get/3054967677?profile=original
ATTENDEE;ROLE=REQ-PARTICIPANT;PARTSTAT=ACCEPTED;RSVP=TRUE;CN="Upcoming
 Events.com":http://phillytodo.com/profile/UpcomingEventscom
END:VEVENT
END:VCALENDAR
