BEGIN:VCALENDAR
PRODID:NingEventWidget-v1
VERSION:2.0
METHOD:PUBLISH
BEGIN:VEVENT
UID:4320450:Event:28191
DTSTAMP:20260425T164558Z
SUMMARY:Johnny Utah's 1st Annual Haunted Hoedown!
DESCRIPTION:Presenting ... Haunted Hoedown 2012! Johnny Utah's is THE 
 place to be for Halloween in Philadelphia 2012! For the past 8 years, 
 UpcomingEvents.com & YoungProfessionalEvents.com have been bringing yo
 u Philadelphia's most visible and most exclusive Halloween events - an
 d this year we present you with a Haunted Hoedown!  Buy \"all access\
 " tickets that gets you in to both Johnny Utah's Country Rock Bar AND 
 McFadden's!\nThe event starts at 8pm and lasts until 2am.  Our DJ wil
 l be playing incredible country-rock music.  Ride the Mechanical Bull
 !  Tasty specialty cocktails and more.\n\nFor more information visit 
 http://phillytodo.com/events/johnny-utah-s-1st-annual-haunted-hoedown
DTSTART:20121014T220000Z
DTEND:20121014T230000Z
CATEGORIES:halloween, party
LOCATION:Johnny Utah's Rock Bar
WEBSITE:http://www.upcomingevents.com/philadelphia/halloween-event/123
 31/ptodo
URL:http://www.upcomingevents.com/philadelphia/halloween-event/12331/p
 todo
CONTACT:
ORGANIZER;CN="UpcomingEvents.com":http://phillytodo.com/profile/Upcomi
 ngEventscom
ATTACH;FMTTYPE="image/jpeg":http://storage.ning.com/topology/rest/1.0/
 file/get/3054958661?profile=original
ATTENDEE;ROLE=REQ-PARTICIPANT;PARTSTAT=ACCEPTED;RSVP=TRUE;CN="Upcoming
 Events.com":http://phillytodo.com/profile/UpcomingEventscom
END:VEVENT
END:VCALENDAR
