BEGIN:VCALENDAR
PRODID:NingEventWidget-v1
VERSION:2.0
METHOD:PUBLISH
BEGIN:VEVENT
UID:4320450:Event:55907
DTSTAMP:20260425T143321Z
SUMMARY:John Hardy Bracelet Bar Event &amp; Trunk Show at Bernie Robbi
 ns Jewelers
DESCRIPTION:Discover artisan John Hardy bracelets at the Bracelet Bar 
 Event & Trunk Show at Bernie Robbins Jewelers. Design your dream stack
  of bracelets at our signature bracelet bar while enjoying complimen
 tary champagne and a tropical themed candy bar\n\nFor more informati
 on visit http://phillytodo.com/events/john-hardy-bracelet-bar-event-am
 p-trunk-show-at-bernie-robbins-1
DTSTART:20180714T140000Z
DTEND:20180714T210000Z
CATEGORIES:trunk, show
LOCATION:Bernie Robbins Jewelers
WEBSITE:https://www.bernierobbins.com/bernie-robbins-jewelers/events/j
 ohn-hardy-bracelet-bar-event_07132018_1000
URL:https://www.bernierobbins.com/bernie-robbins-jewelers/events/john-
 hardy-bracelet-bar-event_07132018_1000
CONTACT:12156271060
ORGANIZER;CN=CashmanAssoc:http://phillytodo.com/profile/CashmanAssoc
ATTACH;FMTTYPE="image/jpeg":http://storage.ning.com/topology/rest/1.0/
 file/get/3055014426?profile=original
ATTENDEE;ROLE=REQ-PARTICIPANT;PARTSTAT=ACCEPTED;RSVP=TRUE;CN=CashmanAs
 soc:http://phillytodo.com/profile/CashmanAssoc
END:VEVENT
END:VCALENDAR
