BEGIN:VCALENDAR
PRODID:NingEventWidget-v1
VERSION:2.0
METHOD:PUBLISH
BEGIN:VEVENT
UID:4320450:Event:1107
DTSTAMP:20260425T160934Z
SUMMARY:Joe Trainor Trio Concert to Benefit City Theater Company
DESCRIPTION:The Joe Trainor Trio will be performing the Beatles' Abbey
  Road in it's entirety at Kelly's Logan House in Trolly Square of Wilm
 ington DE on Saturday to benefit the City Theater Company.\n\n5 bucks.
 \n\nAll of Abbey Road.\n\nSelections and fan favorites from their debu
 t album Drive.\n\nThe Future Unwritten.\n\nDid we mention it's Only. 5
 . Bucks??\n\nFor more information visit http://phillytodo.com/events/j
 oe-trainor-trio-concert-to
DTSTART:20100307T020000Z
DTEND:20100307T063000Z
CATEGORIES:benefit, concert
LOCATION:Kelly's Logan House
WEBSITE:http://joetrainortrio.com/2010/02/kellys-logan-house-live-reco
 rding-be-a-part-of-the-album/
URL:http://joetrainortrio.com/2010/02/kellys-logan-house-live-recordin
 g-be-a-part-of-the-album/
CONTACT:
ORGANIZER:Kelly's Logan House / City Theater Company
ATTACH;FMTTYPE="image/jpeg":
ATTENDEE;ROLE=REQ-PARTICIPANT;PARTSTAT=ACCEPTED;RSVP=TRUE;CN="Matt Lic
 htenwalner":http://phillytodo.com/profile/MattLichtenwalner
END:VEVENT
END:VCALENDAR
