BEGIN:VCALENDAR
PRODID:NingEventWidget-v1
VERSION:2.0
METHOD:PUBLISH
BEGIN:VEVENT
UID:4320450:Event:49369
DTSTAMP:20260425T130711Z
SUMMARY:Joe Nichols at Valley Forge Music Fair
DESCRIPTION:Valley Forge Casino Resort (1160 First Avenue) welcomes Jo
 e Nichols to Valley Forge Music Fair on Friday, June 9, 2017. Multi-pl
 atinum Red Bow recording artist Joe Nichols is one of country music’
 s most praised traditional country artists. Nichols is known for hits 
 like \"Tequila Makes Her Clothes Fall Off,\" \" Brokenheartsville,\" 
 and \"Gemme That Girl.\" His latest album Crickets debuted in the Top
  3 on the Billboard Country Albums Chart and spawned the two number on
 e hits “Yeah” and  “Sunny and 75.” Doors of The Venue open at
  8:00pm and the show starts at 9:00pm. Ticket prices range from $40-$4
 5 and are on sale now at Ticketmaster.com. Room & Show packages are al
 so available.\n \n\nFor more information visit http://phillytodo.com/
 events/joe-nichols-at-valley-forge-music-fair
DTSTART:20170610T010000Z
DTEND:20170610T030000Z
CATEGORIES:country, concert
LOCATION:The Venue at Valley Forge Casino Resort
WEBSITE:https://www.vfcasino.com/events/joe-nichols/
URL:https://www.vfcasino.com/events/joe-nichols/
CONTACT:610-354-8222
ORGANIZER:Valley Forge Casino Resort
ATTACH;FMTTYPE="image/jpeg":http://storage.ning.com/topology/rest/1.0/
 file/get/3055002177?profile=original
ATTENDEE;ROLE=REQ-PARTICIPANT;PARTSTAT=ACCEPTED;RSVP=TRUE;CN="Aversa P
 R & Events":http://phillytodo.com/profile/KoryAversa277
END:VEVENT
END:VCALENDAR
