BEGIN:VCALENDAR
PRODID:NingEventWidget-v1
VERSION:2.0
METHOD:PUBLISH
BEGIN:VEVENT
UID:4320450:Event:167888
DTSTAMP:20260425T112922Z
SUMMARY:Joanna Powell: She Ain’t Pretty That Way
DESCRIPTION:“She Ain't Pretty That Way” is a new exhibition by Joa
 nna Powell on display at The Clay Studio. This collection was created 
 during the pandemic lockdown, during which Powell had an abundance of 
 time to reflect. This new body of work, created during the pandemic, m
 emorializes Powell's mother and illustrates the deep well of inspirati
 on she continues to draw from their relationship. The exhibition will 
 be on display at The Clay Studio’s Harrison Gallery from May 1 to Ju
 ne 13, 2021.\n\nVirtual tours available by appointment. Email Jennifer
  Zwilling at jzwilling@theclaystudio.org\n\nFor more information visit
  http://phillytodo.com/events/joanna-powell-she-ain-t-pretty-that-way
DTSTART:20210501T150000Z
DTEND:20210613T220000Z
CATEGORIES:art, gallery, exhibition
LOCATION:The Clay Studio
WEBSITE:https://www.theclaystudio.org/exhibitions/she-ain-t-pretty-tha
 t-way
URL:https://www.theclaystudio.org/exhibitions/she-ain-t-pretty-that-wa
 y
CONTACT:(215) 925-3453 x 23
ORGANIZER:Jennifer Zwilling
ATTACH;FMTTYPE="image/jpeg":https://storage.ning.com/topology/rest/1.0
 /file/get/8684739470?profile=original
ATTENDEE;ROLE=REQ-PARTICIPANT;PARTSTAT=ACCEPTED;RSVP=TRUE;CN="Bryan Ch
 an":http://phillytodo.com/profile/BryanChan
END:VEVENT
END:VCALENDAR
