BEGIN:VCALENDAR
PRODID:NingEventWidget-v1
VERSION:2.0
METHOD:PUBLISH
BEGIN:VEVENT
UID:4320450:Event:35596
DTSTAMP:20260425T211146Z
SUMMARY:Joan Osborne at Candlelight Concerts for Epilepsy Awareness
DESCRIPTION:A VERY unique night as part of Candlelight Concerts for Ep
 ilepsy Awareness with Joan Osborne performing acoustic with Keith Cott
 on. Such a fantastic talent with huge hits (One of Us, St Theresa, Sha
 ke Your Hips), 8 Grammy nominations, including 2013 for Best Blues Alb
 um. She'll be stopping by just days after her new release hits the str
 eets!Join us for a great night of music for a great cause - spreading 
 facts and raising awareness for epilepsy. Surely not to miss. Tickets 
 are only $30 in advance and $35 at the door!!Doors at 7:00pmSpecial op
 ening act: Aaron & The Spell!\n\nFor more information visit http://phi
 llytodo.com/events/joan-osborne-at-candlelight-concerts-for-epilepsy-a
 wareness
DTSTART:20140411T230000Z
DTEND:20140412T020000Z
CATEGORIES:charity, concert
LOCATION:Trinity UMC
WEBSITE:http://www.candlelightconcert.org
URL:http://www.candlelightconcert.org
CONTACT:
ORGANIZER;CN="Eric Miller":http://phillytodo.com/profile/EricMiller
ATTACH;FMTTYPE="image/jpeg":http://storage.ning.com/topology/rest/1.0/
 file/get/3054973475?profile=original
ATTENDEE;ROLE=REQ-PARTICIPANT;PARTSTAT=ACCEPTED;RSVP=TRUE;CN="Eric Mil
 ler":http://phillytodo.com/profile/EricMiller
END:VEVENT
END:VCALENDAR
