BEGIN:VCALENDAR
PRODID:NingEventWidget-v1
VERSION:2.0
METHOD:PUBLISH
BEGIN:VEVENT
UID:4320450:Event:54209
DTSTAMP:20260425T112706Z
SUMMARY:Jet Wine Bar Après-Ski Pop-Up
DESCRIPTION:Jet Wine Bar is hosting a layover series this Thursday, wh
 ere guests will be transported to the Alps with wines and food from th
 e Matterhorn and Mont Blanc to Finsteraarhorn and the Eiger.\n \nEnjo
 y $9 feature wines by the glass from the region, including:\n \nMosca
 to d'Asti, Oddero\nItaly, 2015\n \nMuller Thurgau, Nals Margreid\nIta
 ly, 2012\n \nGamay-Pinot Noir, Dole Balavaud\nSwitzerland, 2012\n \n
 Food specials will be reminiscent of cozy alpine lodge bites: \n \nC
 reamy Polenta with Italian Sausage ($12)\nserved with Parmesan polenta
 , caramelized onions and sweet Italian sausage\n \nTaleggio Grilled C
 heese ($10)\nserved with bacon, spicy dijon and honey crisp apples on 
 brioche\n \nPotato Rosti Skillet ($11)\nserved with a crispy potato c
 ake, topped with smoked salmon and creme fraiche.\n\nFor more informat
 ion visit http://phillytodo.com/events/jet-wine-bar-apr-s-ski-pop-up
DTSTART:20171221T210000Z
DTEND:20171222T040000Z
CATEGORIES:wine, and, food, tasting
LOCATION:Jet Wine Bar
WEBSITE:http://jetwinebar.com/
URL:http://jetwinebar.com/
CONTACT:215-735-1116
ORGANIZER;CN="Punch Media":http://phillytodo.com/profile/PunchMedia
ATTACH;FMTTYPE="image/jpeg":
ATTENDEE;ROLE=REQ-PARTICIPANT;PARTSTAT=ACCEPTED;RSVP=TRUE;CN="Punch Me
 dia":http://phillytodo.com/profile/PunchMedia
END:VEVENT
END:VCALENDAR
