BEGIN:VCALENDAR
PRODID:NingEventWidget-v1
VERSION:2.0
METHOD:PUBLISH
BEGIN:VEVENT
UID:4320450:Event:995
DTSTAMP:20260425T100114Z
SUMMARY:Jazz Thursdays: Tom Adams
DESCRIPTION:Firecreek Restaurant's Jazz Thursdays presents TOM ADAMS.\
 n\nTom Adams has appeared with such artists as: Bette Midler, Anita O'
 Day, Coolio, Jewel, Keely Smith, Linda Hopkins, Petula Clark, and Mel 
 Torme.\n\nThree CD's were added to his discography with the release of
  the Casablanca Records \"Jazz Baby\" Series, which includes four perf
 ormances with long-time writing partner, Cybill Shepherd. Tom's piano 
 work was frequently heard on\nthe highly acclaimed CBS sitcom, \"Cybil
 l\".\n\nAs a writer, he has contributed to recordings such as Ernestin
 e Anderson's Grammy- Nominated release, \"Now and Then\". Other indust
 ry credits include the Universal film \"Happy Gilmore\" and collaborat
 ions with famed animation\nhouse, Klasky-Csupo, yielding the original 
 Echo Award winning Free Credit Report ad campaign and the Mentos \"Mar
 ching Mint\" spots seen on ESPN2.\n\nAs a vocalist, he has been heard 
 on The Osbournes, MTV's Newlyweds, and has performed many times on \"T
 he Tonight Show\" including a turn as the singing voice of Jay Leno.\n
 \nHis original song, \"From the Forties\", can be heard on the Beverly
  Hills 90210 Second Season DVD release.\n\nDrink specials begin at 5 a
 nd end at 7: $2 Bud Lights, $3 Craft Beers, $4 Cocktails and House Win
 e, 1/2 Price Bar menu and $3 Off Premium Wine by the glass.\n\nFor mor
 e information visit http://phillytodo.com/events/jazz-thursdays-tom-ad
 ams
DTSTART:20100211T230000Z
DTEND:20100212T020000Z
CATEGORIES:jazz, music, happy, hour, firecreek
LOCATION:Firecreek Restaurant
WEBSITE:http://www.firecreek-restaurant.com
URL:http://www.firecreek-restaurant.com
CONTACT:610-269-6000
ORGANIZER:Firecreek Restaurant
ATTACH;FMTTYPE="image/jpeg":http://storage.ning.com/topology/rest/1.0/
 file/get/3054943182?profile=original
ATTENDEE;ROLE=REQ-PARTICIPANT;PARTSTAT=ACCEPTED;RSVP=TRUE;CN="Lauren W
 enzel":http://phillytodo.com/profile/JacklinRhoads
END:VEVENT
END:VCALENDAR
