BEGIN:VCALENDAR
PRODID:NingEventWidget-v1
VERSION:2.0
METHOD:PUBLISH
BEGIN:VEVENT
UID:4320450:Event:32412
DTSTAMP:20260425T095928Z
SUMMARY:Jazz it Up!!
DESCRIPTION:Friends of NPIHN and Thrivent Financial for Lutherans Pres
 ent:\nJazz it Up!\nA Benefit for Interfaith Hospitality Network of No
 rthwest & Northeast Philadelphia (NPIHN)\nSUNDAY JUNE 9, 2013\n7165 Ge
 rmantown Ave., Philadelphia PA 19119 (formerly North by Northwest)\nha
 lf-day or all-day tickets\nEnjoy some of Philly’s most exciting jazz
  groups and 2 delicious buffets!\nJAZZ BRUNCH - 12 Noon to 3 PM\nJAZZ 
 PARTY - 3 to 7 PM\n(buffets by centre caterers)\nTickets available onl
 ine at www.philashelter.org/jazzitup or by phone reservation 215-247-4
 663 Ext. 102\nPRICING\nDonors $150 – all-day music/buffet/bar bevera
 ge/donor recognitionPatrons $100 – all-day music/buffet/bar beverage
 Patrons $50 – Jazz Brunch or Jazz Party w/ buffet/bar beverage (limi
 ted number of tickets available)\nWHO'S PERFORMING\nJazz Brunch\n12 No
 on- 1:30 pm – Jeannie Brooks and the Jazz Doctors  (Classic jazz an
 d blues with one of Philly’s most dynamic vocalists – a “singer
 s singer”)\n1:30 -3:30 pm –“ Jazz Fiddler on the Roof” with 
 the Mark Kramer Trio (Rare performance of all-original arrangements, w
 ritten and recorded by brilliant pianist/composer Dr. Mark Kramer)\nAf
 ternoon Jazz Party and Buffet\n3:30 – 5:30 pm –Kevin Valentine Qua
 rtet (Creative new interpretations of old jazz favorites by an excitin
 g young singer rapidly winning fans all over the region)\n5:30 – 7 p
 m – Los Medicos de Jazz with very special guest Pablo Batista (Latin
  jazz grand finale featuring a percussion master who has recorded and 
 toured with Alicia Keys, Patti Labelle, Kirk Franklin, Jill Scott, Ger
 ald Levert, Jeffrey Osborne, Phyllis Hyman, Teddy Pendergrass, Diane R
 eeves, Norman Brown, Manny Oquendo and Libre, Eddie Palmieri and Musiq
 .)\n\nFor more information visit http://phillytodo.com/events/jazz-it-
 up
DTSTART:20130609T160000Z
DTEND:20130609T230000Z
CATEGORIES:fundraiser, jazz, festival, concert
LOCATION:7165 Lounge
WEBSITE:http://www.philashelter.org
URL:http://www.philashelter.org
CONTACT:215-247-4663 ext. 102
ORGANIZER:NPIHN
ATTACH;FMTTYPE="image/jpeg":http://storage.ning.com/topology/rest/1.0/
 file/get/3054965979?profile=original
ATTENDEE;ROLE=REQ-PARTICIPANT;PARTSTAT=ACCEPTED;RSVP=TRUE;CN="Elisha S
 awyer":http://phillytodo.com/profile/ElishaSawyer
END:VEVENT
END:VCALENDAR
