BEGIN:VCALENDAR
PRODID:NingEventWidget-v1
VERSION:2.0
METHOD:PUBLISH
BEGIN:VEVENT
UID:4320450:Event:41376
DTSTAMP:20260425T101840Z
SUMMARY:Jazz Age on the Delaware: Roaring 20s Lawn Party
DESCRIPTION:Jazz Age on the Delaware will make its rollicking debut on
  Saturday, August 1, 2015, from 11:00am to 5:00pm, on the estate of Gl
 en Foerd on the Delaware. Enjoy a full day of open-air merriment with 
 elaborate picnics, vintage-inspired food and drink, 1920’s music and
  dancing, live entertainment, dance lessons, lawn games, a pie baking 
 contest, and much more. Plan to step out in your best period attire an
 d celebrate the elegance of the era. Entertainment includes the Red Ho
 t Ramblers, Minsky Sisters, the Gin Canaries, Old City Sweethearts, Dr
 ew Nuggent and the Midnight Society, and Dandy Wellington. Tickets are
  on sale now. Proceeds support Glen Foerd's mission to preserve the es
 tate for the community and future generations. For more information, c
 all 215-632-5330 or visit Jazz Age on the Delaware at http://www.jazza
 geonthedelaware.com.\n\nFor more information visit http://phillytodo.c
 om/events/jazz-age-on-the-delaware-roaring-20s-lawn-party
DTSTART:20150801T150000Z
DTEND:20150801T210000Z
CATEGORIES:jazz, age, picnic, party
LOCATION:Glen Foerd on the Delaware
WEBSITE:http://www.jazzageonthedelaware.com
URL:http://www.jazzageonthedelaware.com
CONTACT:215-632-5330
ORGANIZER;CN="Aversa PR & Events":http://phillytodo.com/profile/KoryAv
 ersa277
ATTACH;FMTTYPE="image/jpeg":http://storage.ning.com/topology/rest/1.0/
 file/get/3054989685?profile=original
ATTENDEE;ROLE=REQ-PARTICIPANT;PARTSTAT=ACCEPTED;RSVP=TRUE;CN="Aversa P
 R & Events":http://phillytodo.com/profile/KoryAversa277
END:VEVENT
END:VCALENDAR
