BEGIN:VCALENDAR
PRODID:NingEventWidget-v1
VERSION:2.0
METHOD:PUBLISH
BEGIN:VEVENT
UID:4320450:Event:37028
DTSTAMP:20260425T130958Z
SUMMARY:James Brantley Exhibition \"Dreamscapes Conceptual Landscapes\
 "
DESCRIPTION:Celebrate the work of lifelong Philadelphian and revered a
 rtist James Brantley in his first solo exhibition since 2010. Brantley
 ’s works expresses a surreal style, bridging the gap between conscio
 us and unconscious thoughts, alluring his audience with a combination 
 of impressionistic and abstract designs. Exhibition runs from May 17, 
 2014 through June 21, 2014. \n\nFor more information visit http://phil
 lytodo.com/events/james-brantley-exhibition-dreamscapes-conceptual-lan
 dscapes
DTSTART:20140517T200000Z
DTEND:20140622T000000Z
CATEGORIES:art, gallery
LOCATION:The Bazemore Gallery
WEBSITE:
URL:
CONTACT:
ORGANIZER;CN=CashmanAssoc:http://phillytodo.com/profile/CashmanAssoc
ATTACH;FMTTYPE="image/jpeg":
ATTENDEE;ROLE=REQ-PARTICIPANT;PARTSTAT=ACCEPTED;RSVP=TRUE;CN=CashmanAs
 soc:http://phillytodo.com/profile/CashmanAssoc
END:VEVENT
END:VCALENDAR
