BEGIN:VCALENDAR
PRODID:NingEventWidget-v1
VERSION:2.0
METHOD:PUBLISH
BEGIN:VEVENT
UID:4320450:Event:42711
DTSTAMP:20260425T124918Z
SUMMARY:Jade's Closet Launch
DESCRIPTION:Join Skai Blue Media and Jade’s Closet in collaboration 
 with West Elm for a shopping experience as part of The Philadelphia Co
 llection. Come shop, sip and socialize at the launch event on October
  8th from 6-9pm at The Shops at Liberty. In addition to fabulous sho
 pping, there will be live fashion illustrations, personalized flip boo
 ks, hors d’oeuvres by Mia & Me Catering, wine provided by Paradocx V
 ineyard, music and more!\n\nFor more information visit http://phillyto
 do.com/events/jade-s-closet-launch
DTSTART:20151008T220000Z
DTEND:20151009T010000Z
CATEGORIES:launch, event
LOCATION:The Shops at Liberty Place
WEBSITE:
URL:
CONTACT:2156257988
ORGANIZER;CN="Skai Blue Media":http://phillytodo.com/profile/SkaiBlueM
 edia
ATTACH;FMTTYPE="image/jpeg":http://storage.ning.com/topology/rest/1.0/
 file/get/3054990172?profile=original
ATTENDEE;ROLE=REQ-PARTICIPANT;PARTSTAT=ACCEPTED;RSVP=TRUE;CN="Skai Blu
 e Media":http://phillytodo.com/profile/SkaiBlueMedia
END:VEVENT
END:VCALENDAR
