BEGIN:VCALENDAR
PRODID:NingEventWidget-v1
VERSION:2.0
METHOD:PUBLISH
BEGIN:VEVENT
UID:4320450:Event:45323
DTSTAMP:20260425T160751Z
SUMMARY:J. Pascoe: Bodies Without Organs
DESCRIPTION:GLASSBORO, NJ – Work created by J. Pascoe, the 2016 Arti
 st-in-Residence in the Department of Art at Rowan University, is showc
 ased in the exhibition Bodies Without Organs, running April 27 – Jul
 y 16 at Rowan University Art Gallery on High Street in Glassboro. A re
 ception and gallery talk with the artist is Wednesday, April 27 from 5
  - 7 pm in the gallery, with the talk beginning at 6 pm.\nIn this coll
 ection of new work, Pascoe explores the perceptions we have - accurate
  or not - of ourselves and other human bodies. Through the use of foun
 d materials, video, diffraction grating, book structures, and paint, t
 he work prompts the questions “What do I see when I look at other pe
 ople?” or “What do I look at when I see other people?”\n \nThro
 ugh its use of light and line the work reveals how we are more than su
 rface impressions and points to differences between looking and seeing
 . In attempting to capture impressions of strangers in crowds, large g
 roups of people, or other tableaux, the work shows that there can stil
 l be worthwhile moments therein, despite the fleeting nature of such e
 xperiences.\nPascoe, an artist living and working in Philadelphia, has
  spent the last several years creating work centered on how social set
 tings and urban spaces are navigated by the general public, as well as
  her own anxiety and discomfort from interactions originating at these
  sites. Her finished work often takes form on paper as prints or artis
 t books and zines with occasional site-specific or temporary installat
 ions. Pascoe was part of a collaborative artist residency program in S
 lovenia in 2014 and, more recently, was a visiting artist at Maine Col
 lege of Art in Portland, Maine. She also has participated in the PULP 
 ATLAS traveling book arts show that visited various locations, includi
 ng Philadelphia, Scotland, Los Angeles, and New York. She received her
  B.F.A. in Intermedia from Pacific Northwest College of Art in Portlan
 d, Oregon (2004) and her M.F.A. in Book Arts and Printmaking from The 
 University of the Arts in Philadelphia (2013). To see more of her work
 , visit www.jpascoe.com.\n \nRowan University Art Gallery on High Str
 eet is located at 301 High Street in Glassboro, NJ. Admission to the g
 allery, reception, and talk is free and open to the public. Regular ga
 llery hours are Monday – Friday, 10 am to 5 pm; and Saturday, 12 to 
 4 pm. Directions can be found on the gallery website. For more informa
 tion, call 856-256-4521 or visit www.rowan.edu/artgallery.\nSupport fo
 r programming at Rowan University Art Galleries has been made possible
  in part by funds from the New Jersey State Council on the Arts.\n\nFo
 r more information visit http://phillytodo.com/events/j-pascoe-bodies-
 without-organs
DTSTART:20160427T140000Z
DTEND:20160716T210000Z
CATEGORIES:exhibition
LOCATION:High Street Gallery at Rowan University
WEBSITE:http://www.rowan.edu/artgallery
URL:http://www.rowan.edu/artgallery
CONTACT:856.256.4521
ORGANIZER:Mary Salvante
ATTACH;FMTTYPE="image/jpeg":http://storage.ning.com/topology/rest/1.0/
 file/get/3054996678?profile=original
ATTENDEE;ROLE=REQ-PARTICIPANT;PARTSTAT=ACCEPTED;RSVP=TRUE;CN="mary sal
 vante":http://phillytodo.com/profile/marysalvante
END:VEVENT
END:VCALENDAR
