BEGIN:VCALENDAR
PRODID:NingEventWidget-v1
VERSION:2.0
METHOD:PUBLISH
BEGIN:VEVENT
UID:4320450:Event:32905
DTSTAMP:20260425T162713Z
SUMMARY:Ivan Stiles - An evening of AUTOHARP AND BEYOND!
DESCRIPTION:Square Peg Artery & Salvage Presents:\nIvan Stiles - An ev
 ening of AUTOHARP AND BEYOND!\n\nFirst Friday, July 5, 6-8pm\n\nIntern
 ational autoharp champion and inductee to The Autoharp Hall of Fame, I
 van Stiles will be performing at Square Peg Artery & Salvage on First 
 Friday, July 5, 6-8pm. Ivan is known as an autoharpist of unique abili
 ty; not just as a performer, but also as a recording artist, instructo
 r, author, and co-founder/co-editor of Autoharp Quarterly® magazine. 
 In addition to the autoharp, he plays the Appalachian dulcimer, bowed 
 psaltery, and musical saw.\n\nFor more information visit http://philly
 todo.com/events/ivan-stiles-an-evening-of-autoharp-and-beyond
DTSTART:20130705T220000Z
DTEND:20130706T000000Z
CATEGORIES:first, friday, july, 5
LOCATION:Square Peg Artery & Salvage
WEBSITE:http://squarepegartery.com
URL:http://squarepegartery.com
CONTACT:215.360.5548
ORGANIZER;CN="Square Peg Artery & Salvage":http://phillytodo.com/profi
 le/SquarePegArterySalvage
ATTACH;FMTTYPE="image/jpeg":http://storage.ning.com/topology/rest/1.0/
 file/get/3054966918?profile=original
ATTENDEE;ROLE=REQ-PARTICIPANT;PARTSTAT=ACCEPTED;RSVP=TRUE;CN="Square P
 eg Artery & Salvage":http://phillytodo.com/profile/SquarePegArterySalv
 age
END:VEVENT
END:VCALENDAR
