BEGIN:VCALENDAR
PRODID:NingEventWidget-v1
VERSION:2.0
METHOD:PUBLISH
BEGIN:VEVENT
UID:4320450:Event:1313
DTSTAMP:20260425T142536Z
SUMMARY:It’s Valleybrook’s 10-Year Anniversary!
DESCRIPTION:It’s Valleybrook’s 10-Year Anniversary!\n\nCome on ove
 r to Blackwood, NJ to help Ron Jaworski’s Valleybrook Country Club c
 elebrate its 10 year anniversary on Thursday April 29th.\n\nTake advan
 tage of Valleybrook’s classically designed golf course that offers a
  mix of flat and hilly terrain, scenic panoramic views, and great elev
 ations changes. This course is great for all skill levels, and has bee
 n voted the best course in South Jersey!\n\nTo celebrate its 10th anni
 versary, Valleybrook is only charging a $10 green fee which includes a
  cart for the day, and they are accepting tee times exclusively for th
 e anniversary date NOW!\n\nWhen you’re done, stop by the pro-shop wh
 ere you’ll receive a 10% discount off your purchase and head over to
  Riley’s Pub for some 10-cent wings. If you want a full meal, check 
 out the $10 Steak Dinner with a salad (4pm-close) and wash it all down
  with a three olives drink special!\n\nPlanning a wedding? If you book
  your wedding on April 29th, you get $10 off per person. (Must have an
  appointment and the offer is only good on packages costing $69.95 and
  up. Valid for new bookings only)\n\nMark your calendar and come help 
 celebrate Valleybrooke’s 10-year anniversary!\n\nDid we mention 10 a
 utographed Ron Jaworski footballs will be given away throughout the da
 y?\n\nSee you April 29th!\n\nFor more information visit http://phillyt
 odo.com/events/its-valleybrooks-10year
DTSTART:20100429T040000Z
DTEND:20100430T035900Z
CATEGORIES:anniversary
LOCATION:Valleybrook Country Club
WEBSITE:http://valleybrookgolf.com/
URL:http://valleybrookgolf.com/
CONTACT:856-227-3171
ORGANIZER:Valleybrook Country Club
ATTACH;FMTTYPE="image/jpeg":http://storage.ning.com/topology/rest/1.0/
 file/get/3054946686?profile=original
ATTENDEE;ROLE=REQ-PARTICIPANT;PARTSTAT=ACCEPTED;RSVP=TRUE;CN="Valerie 
 Bunsick":http://phillytodo.com/profile/ValerieBunsick
END:VEVENT
END:VCALENDAR
