BEGIN:VCALENDAR
PRODID:NingEventWidget-v1
VERSION:2.0
METHOD:PUBLISH
BEGIN:VEVENT
UID:4320450:Event:25025
DTSTAMP:20260425T100138Z
SUMMARY:Italy in Argentina Tasting Class
DESCRIPTION:The two-hour session will feature five different vintages 
 of Italian grapes that are grown in the soils of South America. Vino e
 xpert Bob Barrett will lead the 6:30–8:30 PM gathering, complete w
 ith sips and snacks. Stick around after the class and receive 15% off 
 your bar tab at the elegantly quirky South Street cafe.\n\nFor more in
 formation visit http://phillytodo.com/events/italy-in-argentina-tastin
 g-class
DTSTART:20120221T230000Z
DTEND:20120222T000000Z
CATEGORIES:wine, tasting, mardi, gras
LOCATION:Jet Wine Bar
WEBSITE:http://jetwinebar.com/
URL:http://jetwinebar.com/
CONTACT:(215) 735-1116
ORGANIZER;CN="Lauren Wenzel":http://phillytodo.com/profile/JacklinRhoa
 ds
ATTACH;FMTTYPE="image/jpeg":http://storage.ning.com/topology/rest/1.0/
 file/get/3054958311?profile=original
ATTENDEE;ROLE=REQ-PARTICIPANT;PARTSTAT=ACCEPTED;RSVP=TRUE;CN="Lauren W
 enzel":http://phillytodo.com/profile/JacklinRhoads
END:VEVENT
END:VCALENDAR
