BEGIN:VCALENDAR
PRODID:NingEventWidget-v1
VERSION:2.0
METHOD:PUBLISH
BEGIN:VEVENT
UID:4320450:Event:45277
DTSTAMP:20260425T144438Z
SUMMARY:Islamic World Hand Papermaking Workshop with Radha Pandey
DESCRIPTION:In this one-day intensive workshop, students will experien
 ce Islamic papermaking first hand and gain insight into the history an
 d culture behind these beautifully multicolored, smooth, burnished she
 ets. Learning to dye dried sheets, apply surface sizing, and burnishin
 g, participants will take home a selection of authentic Islamic papers
  made during the workshop. All necessary materials and supplies are pr
 ovided.\n\n$150 (register by May 1 for $15 discount)\n\nFor more infor
 mation visit http://phillytodo.com/events/islamic-world-hand-papermaki
 ng-workshop-with-radha-pandey
DTSTART:20160522T140000Z
DTEND:20160522T200000Z
CATEGORIES:workshop
LOCATION:paperTHINKtank (in The Loom),
WEBSITE:http://www.phillysoapbox.org/event/islamic-world-hand-papermak
 ing-workshop-with-radha-pandey/
URL:http://www.phillysoapbox.org/event/islamic-world-hand-papermaking-
 workshop-with-radha-pandey/
CONTACT:
ORGANIZER:Philly Soapbox
ATTACH;FMTTYPE="image/jpeg":http://storage.ning.com/topology/rest/1.0/
 file/get/3054996070?profile=original
ATTENDEE;ROLE=REQ-PARTICIPANT;PARTSTAT=ACCEPTED;RSVP=TRUE;CN="Philly S
 oap Box":http://phillytodo.com/profile/PhillySoapBox
END:VEVENT
END:VCALENDAR
