BEGIN:VCALENDAR
PRODID:NingEventWidget-v1
VERSION:2.0
METHOD:PUBLISH
BEGIN:VEVENT
UID:4320450:Event:36492
DTSTAMP:20260425T143545Z
SUMMARY:Islamic Heritage Festival
DESCRIPTION:The Islamic Heritage Festival and Parade begins with the U
 nity in Diversity Parade, which will wind its way throughout the city,
  ending at the Great Plaza Penn's Landing. Following the parade, the 2
 2nd Annual Islamic Heritage Festival will commence, featuring family-f
 riendly games, speakers, a health & wellness fair, free giveaways, ent
 ertainment, and a global open market bazaar.\n\nFor more information v
 isit http://phillytodo.com/events/islamic-heritage-festival
DTSTART:20140614T180000Z
DTEND:20140615T000000Z
CATEGORIES:festival, waterfront
LOCATION:Great Plaza at Penn's Landing
WEBSITE:http://www.delawareriverwaterfront.com/events/islamic-heritage
 -festival-2
URL:http://www.delawareriverwaterfront.com/events/islamic-heritage-fes
 tival-2
CONTACT:215-922-2386
ORGANIZER;CN="Delaware River Waterfront Corp.":http://phillytodo.com/p
 rofile/DelawareRiverWaterfrontCorp
ATTACH;FMTTYPE="image/jpeg":http://storage.ning.com/topology/rest/1.0/
 file/get/3054974949?profile=original
ATTENDEE;ROLE=REQ-PARTICIPANT;PARTSTAT=ACCEPTED;RSVP=TRUE;CN="Delaware
  River Waterfront Corp.":http://phillytodo.com/profile/DelawareRiverWa
 terfrontCorp
END:VEVENT
END:VCALENDAR
