BEGIN:VCALENDAR
PRODID:NingEventWidget-v1
VERSION:2.0
METHOD:PUBLISH
BEGIN:VEVENT
UID:4320450:Event:2687
DTSTAMP:20260425T173502Z
SUMMARY:Iron Cupcake Challenge for Charity
DESCRIPTION:Iron Cupcake Challenge is back--are YOU ready for a cupcak
 e throwdown??! The theme is HALLOWEEN so serve up your scariest/crazie
 st/wackiest/funnest Halloween creations and impress the judges on the 
 presentation factor. The secret ingredient is PUMPKIN! Can you create 
 a winning cupcake who's main ingredient is pumpkin--just in time for H
 alloween!\n\nPINSETTERS Bar and Grill will be hosting our group to rai
 se funds and awareness for the \"Friends of Fullerton Park\".\n\nFrien
 ds of Fullerton are an organization who are raising funds for a park i
 n Moorestown, NJ which was demolished due to unsafe conditions for the
  children of the town. Now, the children are without their coveted \"w
 ood park\" aka Zelley Park and the local community is rallying to try 
 to raise funds and contribute to get this park back up and running--re
 ady to help us?\n\nPinsetters has offered participants in the challeng
 e free bowling and free shoe rental also--how cool is that? This will 
 be a fun FAMILY event and will prove to be great fun!!\n\nPlease join 
 us for a fun and exciting family Halloween event for the whole family.
  Kids are encouraged to wear their Halloween costume if desired! Let's
  help the Friends of Fullerton Park raise funds for the much needed pa
 rk while having a fun cupcake throwdown! Cupcakes+Charities=Perfect To
 gether!!\n\nFirst prize winner for the adult group is $100.00!!!! Seco
 nd and third prizes will also be given. There will be a kids baker cat
 egory for ages 16 and younger where our junior bakers can also compete
 . First prize will be given for the children as well! We are working o
 n some fun \"local celebrity\" judges and raffle items too!!\n\nAdult 
 Bakers and Guests $25.00 per person (Includes bowling and shoes)\nJuni
 or Bakers and Kids 16 and under $15.00 per person (Includes bowling an
 d shoes)\n\nFor more information visit http://phillytodo.com/events/ir
 on-cupcake-challenge-for
DTSTART:20101030T163000Z
DTEND:20101030T193000Z
CATEGORIES:fundraiser
LOCATION:Pinsetters Bar & Bowl
WEBSITE:http://www.meetup.com/Iron-Cupcake-Challenge-Moorestown/calend
 ar/14717621/
URL:http://www.meetup.com/Iron-Cupcake-Challenge-Moorestown/calendar/1
 4717621/
CONTACT:
ORGANIZER:Kati Angelini
ATTACH;FMTTYPE="image/jpeg":http://storage.ning.com/topology/rest/1.0/
 file/get/3054950730?profile=original
ATTENDEE;ROLE=REQ-PARTICIPANT;PARTSTAT=ACCEPTED;RSVP=TRUE;CN="Kim Moor
 es":http://phillytodo.com/profile/KimMoores
END:VEVENT
END:VCALENDAR
