BEGIN:VCALENDAR
PRODID:NingEventWidget-v1
VERSION:2.0
METHOD:PUBLISH
BEGIN:VEVENT
UID:4320450:Event:169204
DTSTAMP:20260425T130433Z
SUMMARY:Iron Chef Jose Garces Ghost Kitchen Pop-Up
DESCRIPTION:Philadelphia favorite, Iron Chef Jose Garces will introduc
 e a very special popup event, featuring tastings from one of his signa
 ture ghost kitchen concepts, in October.\nTypically available for take
 out and delivery only, guests now have the chance to purchase tickets 
 to experience Peruvian tastings from Rustika Pollo a la Brasa.\n\nFor
  more information visit http://phillytodo.com/events/iron-chef-jose-ga
 rces-ghost-kitchen-pop-up
DTSTART:20211027T230000Z
DTEND:20211028T020000Z
CATEGORIES:pop-up, restaurant
LOCATION:Distrito
WEBSITE:https://www.distritophilly.com/store/event/rustika-pollo-a-la-
 brasa-popup-1/
URL:https://www.distritophilly.com/store/event/rustika-pollo-a-la-bras
 a-popup-1/
CONTACT:
ORGANIZER;CN=CashmanAssoc:http://phillytodo.com/profile/CashmanAssoc
ATTACH;FMTTYPE="image/jpeg":https://storage.ning.com/topology/rest/1.0
 /file/get/9642032452?profile=original
ATTENDEE;ROLE=REQ-PARTICIPANT;PARTSTAT=ACCEPTED;RSVP=TRUE;CN=CashmanAs
 soc:http://phillytodo.com/profile/CashmanAssoc
END:VEVENT
END:VCALENDAR
