BEGIN:VCALENDAR
PRODID:NingEventWidget-v1
VERSION:2.0
METHOD:PUBLISH
BEGIN:VEVENT
UID:4320450:Event:36543
DTSTAMP:20260425T150055Z
SUMMARY:Irish Pub Tour de Shore
DESCRIPTION:Mission\nThe Irish Pub Children's Foundation (IPCF), Inc. 
 is a Tri- State based charity dedicated to helping children in need th
 roughout the region. As a registered 501(c)(3) non-profit organization
 , the IPCF has worked with a number of local charities benefiting coun
 tless number of children. With a history spanning over two decades, th
 e IPCF continues its mission to improve the lives of children in the T
 ri-State area.\n \nDescription\nOn Sunday, July 27, 2014, the Irish P
 ub Children’s Foundation (IPCF) will set out to raise $700,000 with 
 the 27th Annual Irish Pub Tour de Shore.  This exciting 65-mile bike 
 ride will kick off at the Irish Pub’s 20th and Walnut Street locatio
 n in Philadelphia and come to a celebratory finish at the Pub’s orig
 inal location on the Atlantic City Boardwalk.\n \nAt the end of the r
 ide we throw our legendary after party for the riders and their famili
 es with food, music and raffle prizes. Friends and family are welcome 
 to come cheer you on at the finish line. During the after party, we al
 so sell raffle tickets so make sure to bring your wallet! We always ha
 ve great baskets.\n \nSign up for this year's 27th Annual Irish Pub T
 our de Shore by visiting our website irishpub.donordrive.com\nAbout\nT
 his year our goal is to raise $700,000. The money raised from the Iris
 h Pub Tour de Shore is given back to the children of the Greater Phila
 delphia and South Jersey communities.\n \nThe funds we raise are also
  given to the children who have lost a parent in the line of duty in o
 ur area. We provide an immediate grant of $5,000 directly to the famil
 ies and follow up with continued support through the organizations tha
 t exist to support these families.\n \nLast year for our 26th anniver
 sary, we were 86% net- meaning 86 cents of every dollar we raised went
  back to the children in our community. This allowed us to donate to o
 ver 23 local children's charities.\n \nWe are very proud to say that 
 over the years we have raised a total of $3.5 million-putting us in th
 e top tier of all non-profit organizations in the country. \n \nLike
  us on Facebook or follow us on Twitter @IP_Tour_deshore and be the fi
 rst to receive updates on the 27th Annual Irish Pub Tour de Shore!\n 
 \nFor more information call 215-568-5603 and ask for Allie or email ir
 ishpubtourdeshore@gmail.com.\n \nWe hope to see you there!\n\nFor mor
 e information visit http://phillytodo.com/events/irish-pub-tour-de-sho
 re
DTSTART:20140727T110000Z
DTEND:20140727T200000Z
CATEGORIES:fundraiser
LOCATION:Irish Pub Philly to Irish Pub Atlantic City
WEBSITE:http://irishpubphilly.com
URL:http://irishpubphilly.com
CONTACT:2155685603
ORGANIZER:Irish Pub Children's Foundation
ATTACH;FMTTYPE="image/jpeg":http://storage.ning.com/topology/rest/1.0/
 file/get/3054974349?profile=original
ATTENDEE;ROLE=REQ-PARTICIPANT;PARTSTAT=ACCEPTED;RSVP=TRUE;CN="Families
  Behind the Badge CF":http://phillytodo.com/profile/TourdeShoreChildre
 nsFoundation
END:VEVENT
END:VCALENDAR
