BEGIN:VCALENDAR
PRODID:NingEventWidget-v1
VERSION:2.0
METHOD:PUBLISH
BEGIN:VEVENT
UID:4320450:Event:49667
DTSTAMP:20260425T160230Z
SUMMARY:Irish Pub Tour de Shore
DESCRIPTION:Come join us for our 30th Anniversary of the Irish Pub Tou
 r de Shore! The 65-mile bike ride will begin at our local Irish Pub lo
 cated at 2007 Walnut Street and end at our Atlantic City location. Thi
 s event benefits the Irish Pub Children’s Foundation and their goal 
 of raising money for children in need and their families of fallen fir
 st responders in the Greater Philadelphia and South Jersey regions. Th
 e Irish Pub Children’s Foundation aims to raise $1,000,000 this year
 ! For more information, please visit: https://irishpub.donordrive.com/
 index.cfm?fuseaction=cms.page&id=1108\n\nFor more information visit ht
 tp://phillytodo.com/events/irish-pub-tour-de-shore-2
DTSTART:20170730T110000Z
DTEND:20170730T230000Z
CATEGORIES:fundraiser
LOCATION:The Irish Pub
WEBSITE:https://irishpub.donordrive.com/index.cfm?fuseaction=donorDriv
 e.event&eventID=533
URL:https://irishpub.donordrive.com/index.cfm?fuseaction=donorDrive.ev
 ent&eventID=533
CONTACT:
ORGANIZER:Jenny White
ATTACH;FMTTYPE="image/jpeg":
ATTENDEE;ROLE=REQ-PARTICIPANT;PARTSTAT=ACCEPTED;RSVP=TRUE;CN="Families
  Behind the Badge CF":http://phillytodo.com/profile/TourdeShoreChildre
 nsFoundation
END:VEVENT
END:VCALENDAR
