BEGIN:VCALENDAR
PRODID:NingEventWidget-v1
VERSION:2.0
METHOD:PUBLISH
BEGIN:VEVENT
UID:4320450:Event:39826
DTSTAMP:20260425T161818Z
SUMMARY:Irish Pub Tour de Shore
DESCRIPTION:Mission\nThe Irish Pub Children's Foundation (IPCF), Inc. 
 is a registered 501(c)(3) non-profit organizationÂ dedicated to helpin
 g children in need and the families of fallen first responders in the 
 greater Philadelphia and South Jersey Area.\nÂ \nDescription\nOn Sunda
 y, July 19, 2014, the Irish Pub Childrenâ€™s Foundation (IPCF) will se
 t out to raise $750,000 with the 28th Annual Irish Pub Tour de Shore.Â
   This exciting 65-mile bike ride will kick off at the Irish Pubâ€™s 2
 0th and Walnut Street location in Philadelphia and come to a celebrato
 ry finish at the Pubâ€™s original location on the Atlantic City Boardw
 alk.\nÂ \nAt the end of the ride we throw our legendary after party fo
 r the riders and their families with food, music and raffle prizes. Fr
 iends and family are welcome to come cheer you on at the finish line. 
 During the after party, we also sell raffle tickets so make sure to br
 ing your wallet! We always have great baskets.\nÂ \nSign up for this y
 ear's 28th Annual Irish Pub Tour de Shore by visiting our website iris
 hpub.donordrive.com\nAbout\nThis year our goal is to raise $750,000. T
 he money raised from the Irish Pub Tour de Shore is given back to the 
 children of the Greater Philadelphia and South Jersey communities.\nÂ 
 \nThe funds we raise are also given to the children who have lost a pa
 rent in the line of duty in our area. We provide an immediate grant of
  $5,000 directly to the families and follow up with continued support 
 through the organizations that exist to support these families.\nÂ \nL
 ast year for our 27th anniversary, we were 86% net- meaning 86 cents o
 f every dollar we raised went back to the children in our community. T
 his allowed us to donate to over 23 local children's charities.\nÂ \nW
 e are very proud to say that over the years we have raised a total of 
 $4.2 million-putting us in the top tier of all non-profit organization
 s in the country.Â \nÂ \nLike us on Facebook or follow us on Twitter @
 IP_Tour_deshore and be the first to receive updates on the 28th Annual
  Irish Pub Tour de Shore!\nÂ \nFor more information call 215-568-5603 
 and ask for Allie or email irishpubtourdeshore@gmail.com.\nÂ \nWe hope
  to see you there!\n\nFor more information visit http://phillytodo.com
 /events/irish-pub-tour-de-shore-1
DTSTART:20150719T110000Z
DTEND:20150719T200000Z
CATEGORIES:fundraiser
LOCATION:Irish Pub Philly to Irish Pub Atlantic City
WEBSITE:http://www.irishpubphilly.com
URL:http://www.irishpubphilly.com
CONTACT:2155685603
ORGANIZER;CN="Families Behind the Badge CF":http://phillytodo.com/prof
 ile/TourdeShoreChildrensFoundation
ATTACH;FMTTYPE="image/jpeg":http://storage.ning.com/topology/rest/1.0/
 file/get/3054987278?profile=original
ATTENDEE;ROLE=REQ-PARTICIPANT;PARTSTAT=ACCEPTED;RSVP=TRUE;CN="Families
  Behind the Badge CF":http://phillytodo.com/profile/TourdeShoreChildre
 nsFoundation
END:VEVENT
END:VCALENDAR
