BEGIN:VCALENDAR
PRODID:NingEventWidget-v1
VERSION:2.0
METHOD:PUBLISH
BEGIN:VEVENT
UID:4320450:Event:36486
DTSTAMP:20260425T160907Z
SUMMARY:Irish American Festival
DESCRIPTION:The Irish Festival celebrates all of Ireland’s cultural 
 gems, from music to dancing to food. This family event will feature no
 table Irish musicians, famous dance schools, bagpipers, and of course,
  traditional foods like shepherd’s pie and bangers and mash. Crafts 
 vendors will also be on-site, selling authentic and traditional Irish 
 goods.\n\nFor more information visit http://phillytodo.com/events/iris
 h-american-festival
DTSTART:20140601T170000Z
DTEND:20140602T000000Z
CATEGORIES:festival, waterfront
LOCATION:Great Plaza at Penn's Landing
WEBSITE:http://www.delawareriverwaterfront.com/events/irish-festival-2
URL:http://www.delawareriverwaterfront.com/events/irish-festival-2
CONTACT:215-922-2386
ORGANIZER;CN="Delaware River Waterfront Corp.":http://phillytodo.com/p
 rofile/DelawareRiverWaterfrontCorp
ATTACH;FMTTYPE="image/jpeg":http://storage.ning.com/topology/rest/1.0/
 file/get/3054974629?profile=original
ATTENDEE;ROLE=REQ-PARTICIPANT;PARTSTAT=ACCEPTED;RSVP=TRUE;CN="Delaware
  River Waterfront Corp.":http://phillytodo.com/profile/DelawareRiverWa
 terfrontCorp
END:VEVENT
END:VCALENDAR
