BEGIN:VCALENDAR
PRODID:NingEventWidget-v1
VERSION:2.0
METHOD:PUBLISH
BEGIN:VEVENT
UID:4320450:Event:32717
DTSTAMP:20260425T131118Z
SUMMARY:INVISIBLE RIVER - a free, public aerial dance & music concert 
 in Fairmount Park
DESCRIPTION:INVISIBLE RIVER -- A free, public aerial dance & music co
 ncert in Fairmount Park \nSUN 6/16 & SUN 6/23 (FULL MOON) AT 8PM\n\n 
  A free, public dance and music performance celebrating the Schuylkill
  River, the ephemeral nature of summer, and the fact that live perform
 ance brings a city together like no other event can. \n\nAERIAL DANCE
  ON THE STRAWBERRY MANSION BRIDGE\nHAUNTING CHORAL COMPOSITIONS BY ELL
 IOTT HARVEY\nA CHOIR OF 9 SINGERS & DANCERS\nWILD & COLORFUL SCULPTURE
 S BY PDDC\n\n\nAFTERWARDS DJ PARTY BY EVAN HOFFMAN\nONSITE VENDING BY 
 COSMIC CAFÉ & LITTLE BABY’S ICE CREAM (6/23 only)\n\nCome at 7pm ea
 rly to eat food and ice cream and hang out in the park!  FREE SHOW FOR
  ALL AGES  LOCATION: At the Strawberry Mansion Bridge & the Adjacent P
 arking lot on Kelly Drive  in Fairmount Park. Click here for map\nTA
 BLE SEATING & PRE-SHOW PICNIC DINNERS: Want to be upclose to the actio
 n & have a delicious pre-show dinner? Purchase a reserved table for 6 
 people with an organic, farm fresh dinner from Cosmic Cafe. Click here
  for more info  PARKING: Car parking nearby at the lot by the St. Jose
 ph's University Boathouse at 2200 Kelly Drive in Philadelphia, PA 1912
 9. Map. Bike parking onsite.  FOR MORE INFO: www.alieandthebrigade.or
 g\n\nFor more information visit http://phillytodo.com/events/invisible
 -river-a-free-public-aerial-dance-music-concert-in
DTSTART:20130617T000000Z
DTEND:20130617T030000Z
CATEGORIES:free, dance, and, music, concert, in, fairmount, park
LOCATION:Strawberry Mansion Bridge in Fairmount Park
WEBSITE:http://www.alieandthebrigade.org
URL:http://www.alieandthebrigade.org
CONTACT:2674670657
ORGANIZER;CN="INVISIBLE RIVER":http://phillytodo.com/profile/invisible
 river
ATTACH;FMTTYPE="image/jpeg":http://storage.ning.com/topology/rest/1.0/
 file/get/3054965652?profile=original
ATTENDEE;ROLE=REQ-PARTICIPANT;PARTSTAT=ACCEPTED;RSVP=TRUE;CN="INVISIBL
 E RIVER":http://phillytodo.com/profile/invisibleriver
END:VEVENT
END:VCALENDAR
