BEGIN:VCALENDAR
PRODID:NingEventWidget-v1
VERSION:2.0
METHOD:PUBLISH
BEGIN:VEVENT
UID:4320450:Event:32911
DTSTAMP:20260425T133235Z
SUMMARY:INVISIBLE RIVER - a free, public aerial dance & music concert 
 in Fairmount Park
DESCRIPTION:INVISIBLE RIVER\nA free, public dance and music performanc
 e celebrating the Schuylkill River, the ephemeral nature of summer, an
 d the fact that live performance brings a city together like no other 
 event can.\n\n*AERIAL DANCE ON THE STRAWBERRY MANSION BRIDGE *HAUNTING
  CHORAL COMPOSITIONS BY ELLIOTT HARVEY\n*A CHOIR OF 9 SINGERS & DANCER
 S\n*WILD & COLORFUL SCULPTURES BY PDDC AFTERWARDS *DANCE PARTY BY DJ P
 ZO\n*ONSITE VENDING BY COSMIC CAFÉ & LITTLE BABY’S ICE CREAM\nCome 
 at 7pm early to eat food and ice cream and hang out in the park!\nFREE
  SHOW FOR ALL AGES\nLOCATION: On Kelly Drive underneath the Strawberry
  Mansion Bridge in Fairmount Park. Click here for map\nPARKING: Car p
 arking nearby at the lot by the St. Joseph's University Boathouse at 2
 200 Kelly Drive in Philadelphia, PA 19129. Map. Bike parking onsite.\
 nFOR MORE INFO: www.alieandthebrigade.org\n\nFor more information vis
 it http://phillytodo.com/events/invisible-river-a-free-public-aerial-d
 ance-music-concert-in-1
DTSTART:20130623T230000Z
DTEND:20130624T030000Z
CATEGORIES:free, dance, and, music, concert, in, fairmount, park
LOCATION:Parking lot by the Strawberry Mansion Bridge on Kelly Drive i
 n Fairmount Park
WEBSITE:http://www.alieandthebrigade.org
URL:http://www.alieandthebrigade.org
CONTACT:2674670657
ORGANIZER;CN="INVISIBLE RIVER":http://phillytodo.com/profile/invisible
 river
ATTACH;FMTTYPE="image/jpeg":http://storage.ning.com/topology/rest/1.0/
 file/get/3054966151?profile=original
ATTENDEE;ROLE=REQ-PARTICIPANT;PARTSTAT=ACCEPTED;RSVP=TRUE;CN="INVISIBL
 E RIVER":http://phillytodo.com/profile/invisibleriver
END:VEVENT
END:VCALENDAR
