BEGIN:VCALENDAR
PRODID:NingEventWidget-v1
VERSION:2.0
METHOD:PUBLISH
BEGIN:VEVENT
UID:4320450:Event:38676
DTSTAMP:20260425T114100Z
SUMMARY:Inverted Normal
DESCRIPTION:GLASSBORO, NJ – With “Inverted Normals,” Rowan Unive
 rsity Art Gallery continues its season by showcasing work that occupie
 s both digital and physical spaces. The exhibit runs November 10 – D
 ecember 20, 2014. An opening reception will be held on Thursday, Novem
 ber 13 from 5 - 7 pm.\n\nCurated by Chris Manzione, “Inverted Normal
 s” is a group exhibition of art works that provide access points to 
 different ways of understanding relationships between digital and phys
 ical spaces. The works have been created with a wide range of digital 
 fabrication techniques and different forms of interactive mobile appli
 cations. The 10 artists represented include Manzione along with Jose C
 arlos Casado, Channel Two, Mark Dorf, Alex Myers, Benjamin Phelan, Mic
 hael Rees, and Jeff Thompson. \n \n\nFor more information visit http
 ://phillytodo.com/events/inverted-normal
DTSTART:20141110T150000Z
DTEND:20141220T220000Z
CATEGORIES:exhibition
LOCATION:Rowan University Art Gallery
WEBSITE:http://www.rowan.edu/artgallery/about.cfm
URL:http://www.rowan.edu/artgallery/about.cfm
CONTACT:8562564521
ORGANIZER;CN="mary salvante":http://phillytodo.com/profile/marysalvant
 e
ATTACH;FMTTYPE="image/jpeg":http://storage.ning.com/topology/rest/1.0/
 file/get/3054981277?profile=original
ATTENDEE;ROLE=REQ-PARTICIPANT;PARTSTAT=ACCEPTED;RSVP=TRUE;CN="mary sal
 vante":http://phillytodo.com/profile/marysalvante
END:VEVENT
END:VCALENDAR
