BEGIN:VCALENDAR
PRODID:NingEventWidget-v1
VERSION:2.0
METHOD:PUBLISH
BEGIN:VEVENT
UID:4320450:Event:56251
DTSTAMP:20260425T131034Z
SUMMARY:Intro to Permaculture @ Greensgrow Farms
DESCRIPTION:Registration required. Learn about the basics of permacult
 ure and how to apply them in your own outdoor spaces with our expert i
 nstructor, Ari Rosenberg. Designing your home garden with permaculture
  principles can make your garden easier to maintain as well as a more 
 productive edible landscape and ecosystem. Once we’ve dipped our toe
 s into the fundamentals, Ari will help you build your own backyard con
 version plan, including a personalized perennial fruit and vegetable l
 ist, to give you all the knowledge you need to make your garden flouri
 sh sustainably.\nPermaculture is a holistic approach to sustainability
  centered on the importance of working with nature. It can take you be
 yond gardening to a lifestyle of independence and efficiency, permacul
 ture focuses on relationships and their impact rather than individual 
 elements. It sounds great, but how can we integrate these practices in
 to our lives?\nTo help make the most accurate plan, Ari asks participa
 nts to start observing their yards now, particularly noting sunlight h
 ours and how they change throughout the season, any pests or insect si
 ghtings, and how water drains (or doesn’t drain) in your yard. Along
  with these elements, a homemade map and plant history detailing the l
 ocation of any annual plants in your yard in the past 3-5 years will h
 elp inform the best possible plan for your unique space.\nAri Rosenber
 g is a passionate activist working to create a more just society throu
 gh community action and organizing. She has been growing food for 15 y
 ears in both rural and urban environments. She loves teaching a variet
 y of food & gardening workshops, and works behind the scenes keeping G
 reensgrow going as our Finance & Ops manager. When not growing, cookin
 g, or preserving food, you can find her biking or running around the c
 ity. Yes, at Greensgrow, even our Finance & Ops manager is a farmer.\n
 Can’t make it to this workshop at Greensgrow Farms? We are offering 
 it at Greensgrow West in West Philadelphia on Sept. 16.\n\nFor more in
 formation visit http://phillytodo.com/events/intro-to-permaculture-gre
 ensgrow-farms
DTSTART:20180929T160000Z
DTEND:20180929T173000Z
CATEGORIES:workshop, gardening
LOCATION:Greensgrow Farms
WEBSITE:https://www.greensgrow.org/event/intro-to-permaculture-2/
URL:https://www.greensgrow.org/event/intro-to-permaculture-2/
CONTACT:
ORGANIZER;CN="Greensgrow Farms":http://phillytodo.com/profile/Greensgr
 owFarms
ATTACH;FMTTYPE="image/jpeg":http://storage.ning.com/topology/rest/1.0/
 file/get/3055013947?profile=original
ATTENDEE;ROLE=REQ-PARTICIPANT;PARTSTAT=ACCEPTED;RSVP=TRUE;CN="Greensgr
 ow Farms":http://phillytodo.com/profile/GreensgrowFarms
END:VEVENT
END:VCALENDAR
