BEGIN:VCALENDAR
PRODID:NingEventWidget-v1
VERSION:2.0
METHOD:PUBLISH
BEGIN:VEVENT
UID:4320450:Event:51839
DTSTAMP:20260425T112854Z
SUMMARY:Intro to Nature Play with NaturePHL
DESCRIPTION:Want to get your family outside more but don’t know wher
 e to start? Come for some unstructured nature play and a hike! With a 
 Schuylkill Center educator and a CHOP pediatrician, we will climb, exp
 lore, and learn more about the many health benefits of outdoor activit
 y and time in nature. We will meet at Tall Trees Nature Playscape and 
 head out into the forest from there.\nThis program is part of NatureP
 HL, our new health initiative in collaboration with CHOP. The program 
 enables CHOP pediatricians to offer nature prescriptions.\n\nFor more 
 information visit http://phillytodo.com/events/intro-to-nature-play-wi
 th-naturephl-1
DTSTART:20171028T180000Z
DTEND:20171028T193000Z
CATEGORIES:family, fun, health, wellness
LOCATION:The Schuylkill Center for Environmental Education
WEBSITE:http://www.schuylkillcenter.org/blog/event/intro-to-nature-pla
 y-with-naturephl/
URL:http://www.schuylkillcenter.org/blog/event/intro-to-nature-play-wi
 th-naturephl/
CONTACT:(215)-482-7300
ORGANIZER;CN="The Schuylkill Center":http://phillytodo.com/profile/Ann
 aLehrMueser
ATTACH;FMTTYPE="image/jpeg":http://storage.ning.com/topology/rest/1.0/
 file/get/3055006554?profile=original
ATTENDEE;ROLE=REQ-PARTICIPANT;PARTSTAT=ACCEPTED;RSVP=TRUE;CN="The Schu
 ylkill Center":http://phillytodo.com/profile/AnnaLehrMueser
END:VEVENT
END:VCALENDAR
