BEGIN:VCALENDAR
PRODID:NingEventWidget-v1
VERSION:2.0
METHOD:PUBLISH
BEGIN:VEVENT
UID:4320450:Event:40763
DTSTAMP:20260425T113210Z
SUMMARY:International House Philadelphia’s 54th Annual Global Gala: 
 Korea
DESCRIPTION:International House Philadelphia’s 54th Global Gala: Kor
 ea will take place on Saturday, May 9, 2015 at 37th and Chestnut Stree
 ts in University City. Enjoy an evening of cuisine, art, music and net
 working to celebrate Korea's rich cultural traditions. Fox 29 Good Day
  Philadelphia’s Alex Holley will emcee IHP’s largest fundraising e
 vent of the year, which will honor Councilman David Oh. Themed festivi
 ties will include cocktails, hors d'oeuvres, a silent auction, open ba
 r, performances and a formal seated dinner, dancing, desserts and afte
 r-hours karaoke. Entertainers will include Do Yeon Kim, Jungwoong Kim,
  WHITE WAVE Young Soon Kim Dance Company, Cho Young Ahn & Yu Rang Han,
  DJ CHOPS and After-Hours Karaoke! Hosted by the TAKII World Tour. Bla
 ck tie or traditional dress encouraged. For more info, visit www.ihous
 ephilly.org or call 215-895-6528.\n\nFor more information visit http:/
 /phillytodo.com/events/international-house-philadelphia-s-54th-annual-
 global-gala-korea
DTSTART:20150509T223000Z
DTEND:20150510T060000Z
CATEGORIES:gala
LOCATION:International House Philadelphia
WEBSITE:http://ihousephilly.org/calendar/ihp-s-54th-global-gala
URL:http://ihousephilly.org/calendar/ihp-s-54th-global-gala
CONTACT:2158956528
ORGANIZER;CN="Aversa PR & Events":http://phillytodo.com/profile/KoryAv
 ersa277
ATTACH;FMTTYPE="image/jpeg":http://storage.ning.com/topology/rest/1.0/
 file/get/3054987372?profile=original
ATTENDEE;ROLE=REQ-PARTICIPANT;PARTSTAT=ACCEPTED;RSVP=TRUE;CN="Aversa P
 R & Events":http://phillytodo.com/profile/KoryAversa277
END:VEVENT
END:VCALENDAR
