BEGIN:VCALENDAR
PRODID:NingEventWidget-v1
VERSION:2.0
METHOD:PUBLISH
BEGIN:VEVENT
UID:4320450:Event:36131
DTSTAMP:20260425T124857Z
SUMMARY:Interactive Intelligence Seminar
DESCRIPTION:The Market & Shops at Comcast Center are celebrating Phill
 y Tech Week by offering a free seminar showcasing simple life hacks fo
 r work and play that will put an end to your mobile madness. JDMK Cons
 ulting will teach you how to extend your battery life, feed the family
 , set up a virtual office, and manage your kid’s schoolwork like a c
 hamp. For more on this new event series, visit www.themarketandshopsa
 tcomcastcenter.com. #TSQUARED #PTW14\n\nFor more information visit htt
 p://phillytodo.com/events/interactive-intelligence-seminar
DTSTART:20140408T210000Z
DTEND:20140408T230000Z
CATEGORIES:philly, tech, week, free, seminar
LOCATION:The Market & Shops at Comcast Center
WEBSITE:http://www.themarketandshopsatcomcastcenter.com
URL:http://www.themarketandshopsatcomcastcenter.com
CONTACT:(215) 496-1810
ORGANIZER:The Market & Shops at Comcast Center
ATTACH;FMTTYPE="image/jpeg":http://storage.ning.com/topology/rest/1.0/
 file/get/3054974113?profile=original
ATTENDEE;ROLE=REQ-PARTICIPANT;PARTSTAT=ACCEPTED;RSVP=TRUE;CN=CashmanAs
 soc:http://phillytodo.com/profile/CashmanAssoc
END:VEVENT
END:VCALENDAR
