BEGIN:VCALENDAR
PRODID:NingEventWidget-v1
VERSION:2.0
METHOD:PUBLISH
BEGIN:VEVENT
UID:4320450:Event:60514
DTSTAMP:20260425T112541Z
SUMMARY:Instrument Petting Zoo
DESCRIPTION:The perfect concert for all ages! One Liberty Observation 
 Deck is hosting an Instrument Petting Zoo with Marple Friends on Satur
 day, March 21st from 11 a.m. to 12 p.m. Bring all the aspiring musicia
 ns in the family for a first-hand look and feel of a wide variety of m
 usical instruments.   Featured musicians will explain the history of e
 ach instrument, how it functions and makes sounds, and why it is impor
 tant to the full symphonic sound.   Musicians will then individually p
 lay various kids-themed tunes followed by two pieces together so the a
 udience can children hear and see how the musicians work together as a
 n ensemble.   After the music-making segment, the musicians invite kid
 s to ask questions and see the instruments up close. Kid-friendly floo
 r seating. Limited chair seating will be available on a first-come-fir
 st serve basis. This will be a full event, so arrive early to get a go
 od spot!\n\nFor more information visit http://phillytodo.com/events/in
 strument-petting-zoo
DTSTART:20200321T150000Z
DTEND:20200321T160000Z
CATEGORIES:music, open, house
LOCATION:One Liberty Observation Deck
WEBSITE:https://www.eventbrite.com/e/instrument-petting-zoo-tickets-92
 947058153
URL:https://www.eventbrite.com/e/instrument-petting-zoo-tickets-929470
 58153
CONTACT:215-561-3325
ORGANIZER;CN="Bryan Chan":http://phillytodo.com/profile/BryanChan
ATTACH;FMTTYPE="image/jpeg":
ATTENDEE;ROLE=REQ-PARTICIPANT;PARTSTAT=ACCEPTED;RSVP=TRUE;CN="Bryan Ch
 an":http://phillytodo.com/profile/BryanChan
END:VEVENT
END:VCALENDAR
