BEGIN:VCALENDAR
PRODID:NingEventWidget-v1
VERSION:2.0
METHOD:PUBLISH
BEGIN:VEVENT
UID:4320450:Event:35107
DTSTAMP:20260425T172054Z
SUMMARY:Inner Peace Meditation Retreat
DESCRIPTION:Start the New Year off with a peaceful mind and a happy he
 art.  Join us for a meditation retreat led by Gen Tenzin, Buddhist mo
 nk and Resident Teacher of Amitayus Kadampa Buddhist Center.\nNo medit
 ation experience necessary. Everyone is welcome. Drop into any session
 !\nSession times:\n10:00-11:00am\n12:00-1:00pm\n3:00-4:00pm\n5:00-6:00
 pm\n$5 per session, or $15 for all four.\n\nFor more information visit
  http://phillytodo.com/events/inner-peace-meditation-retreat-1
DTSTART:20131228T150000Z
DTEND:20131228T230000Z
CATEGORIES:meditation, class, buddhism, wellness, spiritual, buddhist
LOCATION:Amitayus Kadampa Buddhist Center
WEBSITE:http://meditationinphiladelphia.org/inner-peace-meditation-ret
 reat-2/
URL:http://meditationinphiladelphia.org/inner-peace-meditation-retreat
 -2/
CONTACT:267-702-4083
ORGANIZER;CN="Education Program Coordinator":http://phillytodo.com/pro
 file/EducationProgramCoordinator
ATTACH;FMTTYPE="image/jpeg":http://storage.ning.com/topology/rest/1.0/
 file/get/3054965638?profile=original
ATTENDEE;ROLE=REQ-PARTICIPANT;PARTSTAT=ACCEPTED;RSVP=TRUE;CN="Educatio
 n Program Coordinator":http://phillytodo.com/profile/EducationProgramC
 oordinator
END:VEVENT
END:VCALENDAR
