BEGIN:VCALENDAR
PRODID:NingEventWidget-v1
VERSION:2.0
METHOD:PUBLISH
BEGIN:VEVENT
UID:4320450:Event:56802
DTSTAMP:20260425T125004Z
SUMMARY:Inner Peace Guided Meditation Retreat
DESCRIPTION:During this day retreat, we will nurture our peaceful, com
 passionate, and wise impulses by meditating on the stages of the path 
 to enlightenment. In the Buddhist tradition, we follow a step by step 
 development of our compassion and wisdom by following a special tradit
 ional presentation of Buddha’s teachings and meditations. We will ex
 plore the three principal aspects of the spiritual path during these h
 our-long guided meditation sessions.\nThis retreat will be based on Th
 e New Meditation Handbook, which will be available for purchase at the
  retreat.\nSessions: 10:30am – 11:30am 12:30 – 1:30pm 3:00 – 4:0
 0pm 5:00 – 6:00p\nAll sessions are unique and self-contained. Feel f
 ree to join any session.\nCost: $5/session or $15/all four\nEveryone i
 s welcome. No meditation experience is necessary.\n\nFor more informat
 ion visit http://phillytodo.com/events/inner-peace-guided-meditation-r
 etreat
DTSTART:20190112T153000Z
DTEND:20190112T230000Z
CATEGORIES:meditation, buddhism, mindfulness, wellness, buddhist
LOCATION:Kadampa Meditation Center Philadelphia
WEBSITE:http://www.meditationinphiladelphia.org/inner-peace-guided-med
 itation-retreat-jan-12/
URL:http://www.meditationinphiladelphia.org/inner-peace-guided-meditat
 ion-retreat-jan-12/
CONTACT:267-702-3817
ORGANIZER;CN="Education Program Coordinator":http://phillytodo.com/pro
 file/EducationProgramCoordinator
ATTACH;FMTTYPE="image/jpeg":https://storage.ning.com/topology/rest/1.0
 /file/get/452895910?profile=original
ATTENDEE;ROLE=REQ-PARTICIPANT;PARTSTAT=ACCEPTED;RSVP=TRUE;CN="Educatio
 n Program Coordinator":http://phillytodo.com/profile/EducationProgramC
 oordinator
END:VEVENT
END:VCALENDAR
