BEGIN:VCALENDAR
PRODID:NingEventWidget-v1
VERSION:2.0
METHOD:PUBLISH
BEGIN:VEVENT
UID:4320450:Event:31909
DTSTAMP:20260425T130921Z
SUMMARY:Innagural \"Philly Give & Get\" Date Auction! It's like a date
 , but with professionals, no smooching required!
DESCRIPTION:A new charity “date” auction that combines professiona
 l networking with community engagement.  The inaugural auction during
  Philly Tech Week will let attendees bid on specialized “Auction Lot
 ” prize packages that combine 3 hours with a Philly-based profession
 al expert & a one-of-a-kind activity.\n \nA taste of what's up for au
 ction!\n-Bowling and beers @ North Bowl with Indy Hall co-founder Alex
  Hillman.\n-Behind-the-scenes BalletX rehearsal with online branding e
 xpert Alexandra Golazewsa\n-Enjoy a private mixology class with the wo
 rld-renowned bartenders at the Franklin Mortgage & Investment Co. with
  local product development consultant Eric Steele.\n\n \n\n\n\nFor mo
 re information visit http://phillytodo.com/events/innagural-philly-giv
 e-get-date-auction-it-s-like-a-date-but-with
DTSTART:20130425T230000Z
DTEND:20130426T020000Z
CATEGORIES:date, auction
LOCATION:National Mechanics
WEBSITE:http://phillygiveandget.org
URL:http://phillygiveandget.org
CONTACT:
ORGANIZER;CN="Adam Rybarczyk @FoodPhreak":http://phillytodo.com/profil
 e/AdamRybarczyk
ATTACH;FMTTYPE="image/jpeg":http://storage.ning.com/topology/rest/1.0/
 file/get/3054965622?profile=original
ATTENDEE;ROLE=REQ-PARTICIPANT;PARTSTAT=ACCEPTED;RSVP=TRUE;CN="Adam Ryb
 arczyk @FoodPhreak":http://phillytodo.com/profile/AdamRybarczyk
END:VEVENT
END:VCALENDAR
