BEGIN:VCALENDAR
PRODID:NingEventWidget-v1
VERSION:2.0
METHOD:PUBLISH
BEGIN:VEVENT
UID:4320450:Event:39517
DTSTAMP:20260425T112748Z
SUMMARY:InLiquid Benefit v.15 Young Professionals Night
DESCRIPTION:A special, high-profile preview cocktail reception and net
 working event for young professional leaders in the Philadelphia area.
  Guests to this event will be among the first to view and place advanc
 e bids on the artwork and other items being offered for the benefit. M
 ore importantly for the attendees, this event offers a rare chance for
  members of various young professional groups to meet, mingle, and net
 work.\n6 – 10 pm Online bidding will open this night, so grab some f
 riends and come and enjoy a silent auction, while snacking on fabulous
  food stations, sponsored by Feast Your Eyes Catering. You will receiv
 e a free drink with your ticket if purchased prior to the event. Ticke
 ts are $10 in advance, $15 at the door. *If you purchase your tickets 
 by January 9, you will receive an additional free drink with each YP t
 icket purchased. So get your tickets early!\n\nFor more information vi
 sit http://phillytodo.com/events/inliquid-benefit-v-15-young-professio
 nals-night
DTSTART:20150206T230000Z
DTEND:20150207T030000Z
CATEGORIES:fundraiser, networking, silent, auction, visual, arts, beer
 , garden
LOCATION:Crane Arts
WEBSITE:http://inliquid.org/happenings/inliquid-projects/benefit/young
 -professionals-night-v15/
URL:http://inliquid.org/happenings/inliquid-projects/benefit/young-pro
 fessionals-night-v15/
CONTACT:2152353405
ORGANIZER;CN="Erica Minutella":http://phillytodo.com/profile/EricaMinu
 tella
ATTACH;FMTTYPE="image/jpeg":http://storage.ning.com/topology/rest/1.0/
 file/get/3054985438?profile=original
ATTENDEE;ROLE=REQ-PARTICIPANT;PARTSTAT=ACCEPTED;RSVP=TRUE;CN="Erica Mi
 nutella":http://phillytodo.com/profile/EricaMinutella
END:VEVENT
END:VCALENDAR
