BEGIN:VCALENDAR
PRODID:NingEventWidget-v1
VERSION:2.0
METHOD:PUBLISH
BEGIN:VEVENT
UID:4320450:Event:35457
DTSTAMP:20260425T142734Z
SUMMARY:InLiquid Benefit v.14 Young Professionals Party
DESCRIPTION:A special, high-profile preview cocktail reception and net
 working event for young professional leaders in the Philadelphia area.
  Guests to this event will be among the first to view and place advanc
 e bids on the artwork and other items being offered for the benefit. M
 ore importantly for the attendees, this event offers a rare chance for
  members of various young professional groups to meet, mingle, and net
 work.  RSVP: Bread & Butter Productions Info@bandbp.com Admission: FRE
 E  Food for purchase, courtesy of: Farm Truck Philly, The Cow and The 
 Curd and Cupcake Carnivale Beverages by: Philadelphia Brewing Company,
  Philadelphia Distilling Music by MG & Mike H  Participating organizat
 ions: AIDS Fund  ArtsTech Philly  Career Wardrobe Culture Works The Fr
 iends of Rittenhouse Square  MANNA Museum Council of Philadelphia PANM
 A Philadelphia Emerging Museum Professionals Philadelphia Sculpture Gy
 m The Raven Society, Free Library of Philadelphia Select Fair  The Spr
 uce Foundation UBER Technologies AIA Young Architects Forum Young Frie
 nds of NMAJH Young Friends of the Philadelphia Museum of Art Young Fri
 ends of the Washington West Civic Association Young Involved Philadelp
 hia\n\nFor more information visit http://phillytodo.com/events/inliqui
 d-benefit-v-14-young-professionals-party
DTSTART:20140207T230000Z
DTEND:20140208T030000Z
CATEGORIES:networking, event
LOCATION:Crane Arts
WEBSITE:http://inliquid.org/happenings/inliquid-projects/benefit/young
 -professionals-party/
URL:http://inliquid.org/happenings/inliquid-projects/benefit/young-pro
 fessionals-party/
CONTACT:2152353405
ORGANIZER:InLiquid
ATTACH;FMTTYPE="image/jpeg":http://storage.ning.com/topology/rest/1.0/
 file/get/3054970841?profile=original
ATTENDEE;ROLE=REQ-PARTICIPANT;PARTSTAT=ACCEPTED;RSVP=TRUE;CN="Erica Mi
 nutella":http://phillytodo.com/profile/EricaMinutella
END:VEVENT
END:VCALENDAR
